BEGIN:VCALENDAR
VERSION:2.0
PRODID:-//Patriot Guard Riders - ECPv5.3.2.1//NONSGML v1.0//EN
CALSCALE:GREGORIAN
METHOD:PUBLISH
X-WR-CALNAME:Patriot Guard Riders
X-ORIGINAL-URL:https://www.patriotguard.org
X-WR-CALDESC:Events for Patriot Guard Riders
BEGIN:VTIMEZONE
TZID:America/New_York
BEGIN:DAYLIGHT
TZOFFSETFROM:-0500
TZOFFSETTO:-0400
TZNAME:EDT
DTSTART:20190310T070000
END:DAYLIGHT
BEGIN:STANDARD
TZOFFSETFROM:-0400
TZOFFSETTO:-0500
TZNAME:EST
DTSTART:20191103T060000
END:STANDARD
END:VTIMEZONE
BEGIN:VEVENT
DTSTART;VALUE=DATE:20190721
DTEND;VALUE=DATE:20190722
DTSTAMP:20210404T020106
CREATED:20190720T170608Z
LAST-MODIFIED:20190720T170608Z
UID:168366-1563667200-1563753599@www.patriotguard.org
SUMMARY:Billy Ross Davenport
DESCRIPTION:Memorial\nBilly Ross Davenport\, Veteran\nUSMC – Vietnam\nMULTI-CITY\, Missouri – 07-21-19\n\n\n\nABOUT THE MISSION: \nThe family of Billy Ross Davenport has requested the Patriot Guard Riders stand in honor of their fallen hero. Mr. Davenport served in the Marine Corps in Vietnam as a 2nd Lieutenant. Upon his return\, he worked in various locations in a law enforcement capacity. He was employed as a motorcycle officer for the Kansas City\, Kansas Police Department. While serving as the Chief of Police for Lakeland\, Missouri\, the St. Louis Globe Democrat recognized him as the number one ticket writer in the state of Missouri for 1983. Mr. Davenport served his country and community his entire life. Please come out to honor this man and his service.\n\n\nPRIMARY STAGING DETAILS: 07-21-19 \nStaging Time: 2:00 PM\n \nMillard-Rekus Family Funeral Chapel\n902 East North Street\nEldon\, Missouri 65026\nMap\n\n\nRide Captain: \nJohn Morlock\njohn@johnmorlock.com\n(573) 280-3240\n\n\nSpecial Instructions: \nMission briefing will be held at 2 pm on Sunday\, July 21 so we can have the flag line planted prior to the service’s start of 3 pm. Following the service\, we will provide an escort to the Union Missionary Baptist Church Cemetery in Rocky Mount which is approximately 8 miles\, for interment with full military honors.\nThe weather is expected to be 95+ degrees with high humidity. Ice water will be provided. Please keep hydrated.\nThe Ride Captain is recovering from surgery\, so if anyone can assist in this mission\, please call him.\n\n\nFlags & Water:\nFlags will be provided\nIf you have large bike flags\, please bring them.\nWater will be provided.\n\n\n\nSubmitted By: John Morlock \nPosition: Missouri Ride Captain \n\nNote: You do not have to own/ride a motorcycle or be a veteran to join\, and membership is Free. The only requirement is RESPECT! To subscribe to receive mission notices\, log into the National Site and click on the Members tab at the top. Select the Subscribe to PGR Missions option.\n Print This Page
URL:https://www.patriotguard.org/mission/billy-ross-davenport/
CATEGORIES:Memorial
END:VEVENT
END:VCALENDAR