BEGIN:VCALENDAR
VERSION:2.0
PRODID:-//Patriot Guard Riders - ECPv5.3.2.1//NONSGML v1.0//EN
CALSCALE:GREGORIAN
METHOD:PUBLISH
X-WR-CALNAME:Patriot Guard Riders
X-ORIGINAL-URL:https://www.patriotguard.org
X-WR-CALDESC:Events for Patriot Guard Riders
BEGIN:VTIMEZONE
TZID:America/New_York
BEGIN:DAYLIGHT
TZOFFSETFROM:-0500
TZOFFSETTO:-0400
TZNAME:EDT
DTSTART:20190310T070000
END:DAYLIGHT
BEGIN:STANDARD
TZOFFSETFROM:-0400
TZOFFSETTO:-0500
TZNAME:EST
DTSTART:20191103T060000
END:STANDARD
END:VTIMEZONE
BEGIN:VEVENT
DTSTART;VALUE=DATE:20190717
DTEND;VALUE=DATE:20190718
DTSTAMP:20210403T200526
CREATED:20190714T152724Z
LAST-MODIFIED:20190714T152724Z
UID:167510-1563321600-1563407999@www.patriotguard.org
SUMMARY:Billy Ray Bilbrey
DESCRIPTION:Honor Mission\nBilly Ray Bilbrey\, Veteran\nUSAF –\nMansfield\, Texas – 07-17-19\n\n\n\nABOUT THE MISSION: \nFuneral Service\n\n\nPRIMARY STAGING DETAILS: 07-17-19 \nStaging Time: 11:00 AM\n \nSkyvue Funeral Home\n7220 Rendon Bloodworth\nMansfield\, Texas 76063\n\n\nRide Captain: \nRick Crabb\nrandjcrabb@juno.com\n(910) 330-9861\n\n\nSpecial Instructions: \nStaging Time: 11:00\nBriefing Time: 11:10\nIn Position/KSU Time: 11:20\nStarting Time: 12:00\nAfter the Mission Brief\, the Riders will establish the Flag Line and await the arrival of Mr. Bilbrey’s family and friends. When directed\, the Riders will return the flags to the support vehicle\, be debriefed and dismissed.\n\n\nFlags & Water:\nFlags will be provided\nLarge Bike Flags will NOT be needed.\nWater will be provided.\n\n\n\nSubmitted By: Dan Mathys \nPosition: Texas Ride Captain \n\nNote: You do not have to own/ride a motorcycle or be a veteran to join\, and membership is Free. The only requirement is RESPECT! To subscribe to receive mission notices\, log into the National Site and click on the Members tab at the top. Select the Subscribe to PGR Missions option.\n Print This Page
URL:https://www.patriotguard.org/mission/billy-ray-bilbrey/
CATEGORIES:Honor Mission
END:VEVENT
END:VCALENDAR