BEGIN:VCALENDAR
VERSION:2.0
PRODID:-//Patriot Guard Riders - ECPv5.3.2.1//NONSGML v1.0//EN
CALSCALE:GREGORIAN
METHOD:PUBLISH
X-WR-CALNAME:Patriot Guard Riders
X-ORIGINAL-URL:https://www.patriotguard.org
X-WR-CALDESC:Events for Patriot Guard Riders
BEGIN:VTIMEZONE
TZID:America/New_York
BEGIN:DAYLIGHT
TZOFFSETFROM:-0500
TZOFFSETTO:-0400
TZNAME:EDT
DTSTART:20170312T070000
END:DAYLIGHT
BEGIN:STANDARD
TZOFFSETFROM:-0400
TZOFFSETTO:-0500
TZNAME:EST
DTSTART:20171105T060000
END:STANDARD
END:VTIMEZONE
BEGIN:VEVENT
DTSTART;TZID=America/New_York:20170330T180000
DTEND;TZID=America/New_York:20170330T200000
DTSTAMP:20210406T011948
CREATED:20170330T220000Z
LAST-MODIFIED:20191201T035541Z
UID:347758-1490896800-1490904000@www.patriotguard.org
SUMMARY:Billy Michael Bardwell\, Fire
DESCRIPTION:Capt Billy Michael Bardwell \nFire \nDallas\, Texas – 30 Mar 2017\n\n[HR][/HR]\nABOUT THE MISSION: \nThe Patriot Guard Riders have been invited to stand the flag line for Captain Bardwell’s funeral service and inurnment service. The inurnment service is scheduled for the following day and will be done by the East Texas PGR. \nPRIMARY STAGING DETAILS: 30 Mar 2017 \n \nPrimary Staging Time: 1500 P.M.\n\nNorthaven United Methodist Church\n11211 Preston Road\n\nDallas\, Texas – 75230\n\n\n\n \n\nRide Captain:\n\nJim Wiggins\njimwtx@verizon.net\n(903) 217-4066\n\n \nSpecial Instructions:\n\nThe PGR will stage at Northaven United Methodist Church. After the briefing\, riders will stand tall and silent while family and friends arrive. When the service begins\, riders will be debriefed and dismissed. The Dallas Fire Department Honor Guard will perform honors for Captain Bardwell. An inurnment service for Captain Bardwell is scheduled for 11:00AM\, Friday\, March 31 at Roselawn Cemetery\, 5396 TX-37\, Mineola\, TX 75773. The East Texas Region of the Patriot Guard is coordinating the inurnment service.\n\n \nFlags & Water:\n\nFlags Will Be Provided\n\nLarge Bike Flags will NOT be needed.\n\nWater will be provided.\n\n\nSubmitted By: Dan Mathys\nPosition: Ride Captain \n[HR][/HR]\nNote:\nYou do not have to own/ride a motorcycle or be a Veteran to join and membership is Free. The only requirement is RESPECT! To join\, simply go to Patriot Guard website and click on Register. Membership is Free. \nTo subscribe to receive mission notices\, log into the National Site and click on the Mission Tab at the top. Select Upcoming Missions by State. Scroll to the state(s) you would like to receive notices for and click on the green check mark. Detailed instructions are also located in the FAQs on the site by clicking on the Quick Links Tab and selecting FAQs.
URL:https://www.patriotguard.org/mission/billy-michael-bardwell-fire/
END:VEVENT
END:VCALENDAR