BEGIN:VCALENDAR
VERSION:2.0
PRODID:-//Patriot Guard Riders - ECPv5.6.0//NONSGML v1.0//EN
CALSCALE:GREGORIAN
METHOD:PUBLISH
X-WR-CALNAME:Patriot Guard Riders
X-ORIGINAL-URL:https://www.patriotguard.org
X-WR-CALDESC:Events for Patriot Guard Riders
BEGIN:VTIMEZONE
TZID:America/New_York
BEGIN:DAYLIGHT
TZOFFSETFROM:-0500
TZOFFSETTO:-0400
TZNAME:EDT
DTSTART:20160313T070000
END:DAYLIGHT
BEGIN:STANDARD
TZOFFSETFROM:-0400
TZOFFSETTO:-0500
TZNAME:EST
DTSTART:20161106T060000
END:STANDARD
END:VTIMEZONE
BEGIN:VEVENT
DTSTART;TZID=America/New_York:20160729T090000
DTEND;TZID=America/New_York:20160729T110000
DTSTAMP:20210512T115246
CREATED:20160729T130000Z
LAST-MODIFIED:20191201T144012Z
UID:410291-1469782800-1469790000@www.patriotguard.org
SUMMARY:Billy M. Wade
DESCRIPTION:The family of US Army Veteran PFC Billy M. Wade has asked the Patriot Guard Riders to stand a flag line at his funeral service scheduled for Friday\, 29 July 2016 at 1200 hours at Ft Gibson National Cemetery\, 1423 Cemetery Rd\, Ft Gibson\, OK. This will be a flag line only. The US Army Honor Detail will render Military Honors. \nDate:  Friday\, 29 July 2016 at 1200 Hours \nStaging:  1115 Hours\nFt Gibson National Cemetery\n1423 Cemetery Rd\nFt Gibson\, OK \nMandatory Briefing:  1130 Hours \nFlag Line:  1145 Hours \nWeather:  Temperature low 90s & 40% chance rain during the mission. \nRCIC:\nMorris “Pike Pass” Noftsger\nmorrisnoftsger@yahoo.com\n918.261.1197
URL:https://www.patriotguard.org/mission/billy-m-wade/
CATEGORIES:Archive
END:VEVENT
END:VCALENDAR