BEGIN:VCALENDAR
VERSION:2.0
PRODID:-//Patriot Guard Riders - ECPv5.3.2.1//NONSGML v1.0//EN
CALSCALE:GREGORIAN
METHOD:PUBLISH
X-WR-CALNAME:Patriot Guard Riders
X-ORIGINAL-URL:https://www.patriotguard.org
X-WR-CALDESC:Events for Patriot Guard Riders
BEGIN:VTIMEZONE
TZID:America/New_York
BEGIN:DAYLIGHT
TZOFFSETFROM:-0500
TZOFFSETTO:-0400
TZNAME:EDT
DTSTART:20170312T070000
END:DAYLIGHT
BEGIN:STANDARD
TZOFFSETFROM:-0400
TZOFFSETTO:-0500
TZNAME:EST
DTSTART:20171105T060000
END:STANDARD
END:VTIMEZONE
BEGIN:VEVENT
DTSTART;TZID=America/New_York:20170216T103000
DTEND;TZID=America/New_York:20170216T123000
DTSTAMP:20210406T003627
CREATED:20170216T153000Z
LAST-MODIFIED:20191201T035600Z
UID:347947-1487241000-1487248200@www.patriotguard.org
SUMMARY:Billy Glenn Baker\, USMC - Korea
DESCRIPTION:Billy Glenn Baker\, Veteran \nUSMC  – Korea \nLancaster\, Texas – 16 Feb 2017\n\n\n[HR][/HR] \n\n\nABOUT THE MISSION: \nWe have been invited by the family of Billy Glenn Baker to join them  in  honoring his memory and military service to our country. We will do  this  by standing a flag line at his funeral service at Byrum Funeral  Home\,  and then again at his interment service at DFW National Cemetery. \nPRIMARY STAGING DETAILS:  16 Feb 2017\n \n\n\n\nPrimary Staging Time:  1130 A.M.\n\nByrum Funeral Home\n425 N Dallas\n\nLancaster\, Texas – 75146 \n\n\n\nRide Captain:\n\nWendy Ingersoll\ncalifbabe55@yahoo.com\n(817) 991-9021\n\n\nSpecial Instructions:\n\nAfter assisting with the placement of the flags\, the   mission brief will be given. We will then stand the flag line to  receive  the family and guests of Mr. Baker. Once the funeral service  begins we  will retrieve the flags\, furl and secure them in the support  vehicle\,  then proceed on to DFW Cemetery for the interment portion of  the  mission.\n\n\nFlags & Water:\n\nFlags Will Be Provided\n\nIf you have large bike flags\, please bring them.\n\nWater will be provided.\n\n[HR][/HR]\nSTAGING #2 DETAILS:  16 Feb\, 2017\n \n\n\n\n Staging #2 Time:  1345 P.M.\n\nDFW  National Cemetery\n2000 Mountain Creek Pkwy\n\nDallas\, Texas – 75211 \n\n\n\nRide Captain:\n\nTBD\n\n\n\nSpecial Instructions:\n\nAfter the mission brief has been given\, the flag  bikes will  be designated and relocated to the assigned staging lane.  The remaining  riders will proceed to the assigned shelter to prepare  for the arrival  of Mr. Baker and the procession from the Visitor’s  Center. Once the  committal service has concluded\, and at the direction  of the ride  captain\, the flags will be retrieved\, furled\, and secured  in the storage  unit. After the post mission brief has been given all  riders will be  dismissed.\n\n\nFlags & Water:\n\nFlags Will Be Provided\n\nLarge Bike Flags will be needed\n\nWater will be provided.\n\n\n\nSubmitted By:  Dan Mathys\nPosition:  Ride Captain \n\n[HR][/HR]\nNote:\nYou do not have to own/ride a motorcycle or be a Veteran to join and membership is Free. The only requirement is RESPECT! To join\, simply go to Patriot Guard website and click on Register. Membership is Free. \nTo subscribe to receive mission notices\, log into the National Site and   click on the Mission Tab at the top. Select Upcoming Missions by State.   Scroll to the state(s) you would like to receive notices for and click   on the green check mark. Detailed instructions are also located in the   FAQs on the site by clicking on the Quick Links Tab and selecting  FAQs.
URL:https://www.patriotguard.org/mission/billy-glenn-baker-usmc-korea/
END:VEVENT
END:VCALENDAR