BEGIN:VCALENDAR
VERSION:2.0
PRODID:-//Patriot Guard Riders - ECPv5.3.2.1//NONSGML v1.0//EN
CALSCALE:GREGORIAN
METHOD:PUBLISH
X-WR-CALNAME:Patriot Guard Riders
X-ORIGINAL-URL:https://www.patriotguard.org
X-WR-CALDESC:Events for Patriot Guard Riders
BEGIN:VTIMEZONE
TZID:America/New_York
BEGIN:DAYLIGHT
TZOFFSETFROM:-0500
TZOFFSETTO:-0400
TZNAME:EDT
DTSTART:20190310T070000
END:DAYLIGHT
BEGIN:STANDARD
TZOFFSETFROM:-0400
TZOFFSETTO:-0500
TZNAME:EST
DTSTART:20191103T060000
END:STANDARD
END:VTIMEZONE
BEGIN:VEVENT
DTSTART;VALUE=DATE:20190601
DTEND;VALUE=DATE:20190602
DTSTAMP:20210405T054331
CREATED:20190529T175909Z
LAST-MODIFIED:20190529T175909Z
UID:162860-1559347200-1559433599@www.patriotguard.org
SUMMARY:Billy Darrell Swearengin
DESCRIPTION:  \n\nHonor Mission\nBilly Darrell Swearengin\, Veteran\nUSMC – WWII\nPensacola\, Florida  06-01-19\n\n\n \n\nABOUT THE MISSION: \nThe Patriot Guard has been invited by the family of CPL Billy Darrell Swearengin\, United States Marine Corps\, to stand in his honor at Cokesbury United Methodist Church\, 5725 N. 9th Ave. Pensacola\, FL. CPL Swearengin served in the United States Marine Corps from Feb 1943 to Nov 1945. During his service he saw action on Kwajalein Atoll\, Marshall Islands 1 – 4 FEB 1944. Guam\, Marianas Islands\, 21 Jul – 10 Aug 1944 and Okinawa\, Ryukyu Islands 1 Apr – 21 Jun 1945. Honors will be at Cokesbury United Methodist Church\, 5725 N. 9th Ave. Pensacola\, Fl.\n\n\nPRIMARY STAGING DETAILS: 06-01-19 \nStaging Time: 09:30 am  \nMcDonalds\,\n1500 Airport Blvd\nPensacola\, Florida\n\n\nRide Captain: \nRoy W. Pippin MSgt USMC (Ret)\n251-979-7241\nsmokeynal.rp@gmail.com\n\n\nSpecial Instructions: \nIt is suggested that long sleeve shirts\, long trousers\, long fingered gloves\, DOT Approved helmets\, leather footwear covering the ankles and appropriate eye protection be worn on this mission.\n\n10:15 am – Safety briefing for all riders\n10:30 am – KSU to Cokesbury United Methodist Church 5725 N. 9th Ave. Pensacola\, FL\n11:00 am – Honors at Cokesbury United Methodist Church\n\n\nFlags & Water:\nFlags will be provided\nIf you have large bike flags\, please bring them.\nWater will be provided.\n\n\n\nSubmitted By: Ray Doyle \nPosition: Florida Assistant State Captain \n\nNote: You do not have to own/ride a motorcycle or be a veteran to join\, and membership is Free. The only requirement is RESPECT! To subscribe to receive mission notices\, log into the National Site and click on the Members tab at the top. Select the Subscribe to PGR Missions option.\n Print This Page
URL:https://www.patriotguard.org/mission/billy-darrell-swearengin/
CATEGORIES:Honor Mission
END:VEVENT
END:VCALENDAR