BEGIN:VCALENDAR
VERSION:2.0
PRODID:-//Patriot Guard Riders - ECPv5.3.2.1//NONSGML v1.0//EN
CALSCALE:GREGORIAN
METHOD:PUBLISH
X-WR-CALNAME:Patriot Guard Riders
X-ORIGINAL-URL:https://www.patriotguard.org
X-WR-CALDESC:Events for Patriot Guard Riders
BEGIN:VTIMEZONE
TZID:America/New_York
BEGIN:DAYLIGHT
TZOFFSETFROM:-0500
TZOFFSETTO:-0400
TZNAME:EDT
DTSTART:20190310T070000
END:DAYLIGHT
BEGIN:STANDARD
TZOFFSETFROM:-0400
TZOFFSETTO:-0500
TZNAME:EST
DTSTART:20191103T060000
END:STANDARD
END:VTIMEZONE
BEGIN:VEVENT
DTSTART;VALUE=DATE:20190612
DTEND;VALUE=DATE:20190613
DTSTAMP:20210405T044240
CREATED:20190611T015854Z
LAST-MODIFIED:20190611T020135Z
UID:164359-1560297600-1560383999@www.patriotguard.org
SUMMARY:Billie R. Brugh
DESCRIPTION:Honor Mission\nBillie R. Brugh\, Retired\nUSAF – Vietnam\nCanton\, Georgia – 06-12-19\n\n\n\nABOUT THE MISSION: \nRetired U.S. Air Force TSGT Billie Roscoe Brugh served from September 1958 until September 1978. Serving as a Tactical Aircraft Maintenance Technician with tours in Vietnam.  His family has requested the Patriot Guard Riders stand for him during his interment service at Georgia National Cemetery.\n\n\nPRIMARY STAGING DETAILS: 06-12-19 \nStaging: 1:45 pm  \nGeorgia National Cemetery\n1080 Scott Hudgens Drive\nCanton\, Georgia 30114\n\n\nRide Captain: \nByron ‘Gimpy’ Hall\nbplayer46@gmail.com\n(770) 883-8175\n\n\nSpecial Instructions: \nThis will be a Flag Line Only Mission.  Stage at the POW/MIA flag pole area. Bikes along right sidewalk. Cages along right curb either just prior to flag pole area or just beyond.  We will move to the assigned shelter when appropriate.  Service is scheduled for 2:30 pm. There is a flag line mission earlier with staging at 12:35 pm. Please plan to attend both missions if possible.\n\n\nFlags & Water:\nFlags will be provided\nLarge Bike Flags will NOT be needed.\nWater WILL NOT be provided\, please bring your own.\n\nSubmitted By: Byron L Hall \nPosition: Georgia Ride Captain \n\nNote: You do not have to own/ride a motorcycle or be a veteran to join\, and membership is Free. The only requirement is RESPECT! To subscribe to receive mission notices\, log into the National Site and click on the Members tab at the top. Select the Subscribe to PGR Missions option.\n Print This Page
URL:https://www.patriotguard.org/mission/billie-r-brugh/
CATEGORIES:Honor Mission
END:VEVENT
END:VCALENDAR