BEGIN:VCALENDAR
VERSION:2.0
PRODID:-//Patriot Guard Riders - ECPv5.3.2.1//NONSGML v1.0//EN
CALSCALE:GREGORIAN
METHOD:PUBLISH
X-WR-CALNAME:Patriot Guard Riders
X-ORIGINAL-URL:https://www.patriotguard.org
X-WR-CALDESC:Events for Patriot Guard Riders
BEGIN:VTIMEZONE
TZID:America/New_York
BEGIN:DAYLIGHT
TZOFFSETFROM:-0500
TZOFFSETTO:-0400
TZNAME:EDT
DTSTART:20190310T070000
END:DAYLIGHT
BEGIN:STANDARD
TZOFFSETFROM:-0400
TZOFFSETTO:-0500
TZNAME:EST
DTSTART:20191103T060000
END:STANDARD
END:VTIMEZONE
BEGIN:VEVENT
DTSTART;VALUE=DATE:20190711
DTEND;VALUE=DATE:20190712
DTSTAMP:20210403T185322
CREATED:20190709T174642Z
LAST-MODIFIED:20190709T174642Z
UID:167130-1562803200-1562889599@www.patriotguard.org
SUMMARY:Billie Carl (BC) Heaston
DESCRIPTION:Honor Mission\nBillie Carl (BC) Heaston\, Veteran\nUSA\nVandalia\, Missouri – 07-11-19\n\n\n\n\nABOUT THE MISSION: \nThe family of Billie Carl (BC) Heaston has invited the Patriot Guard Riders to attend their loved one’s visitation and funeral and to escort him to his final resting place.  Mr.Heaston served honorably in the U.S.Army from March 31\, 1961 until March 30\, 1964.   He was a former member of Farber Volunteer Fire Department.\n\nPRIMARY STAGING DETAILS: 07-11-19 \nStaging Time: 09:30 am\n\n\nBienhoff Funeral Home\n100 Gaslight Rd.\nVandalia\, Missouri 63382\n\n\nRide Captain: \nBill Weldon\n(573) 253-5918\n\n\nSpecial Instructions: \nVISITATION 10:00 AM – 12:00 PM\nFUNERAL SERVICE:   12:00 Noon\nBurial with full military honors will be in Farber Cemetery\, Farber\, Mo. (5.8 miles).  Cemetery is all hard surface.  Hydrate\, hydrate\, hydrate.  Cages are always welcome.\n\nFlags & Water:\nFlags will be provided\nIf you have large bike flags\, please bring them.\nWater will be provided.\n\n\n\n\nSubmitted By: Bill Weldon \nPosition: Missouri Ride Captain \n\nNote: You do not have to own/ride a motorcycle or be a veteran to join\, and membership is Free. The only requirement is RESPECT! To subscribe to receive mission notices\, log into the National Site and click on the Members tab at the top. Select the Subscribe to PGR Missions option.\n Print This Page
URL:https://www.patriotguard.org/mission/billie-carl-bc-heaston/
CATEGORIES:Honor Mission
END:VEVENT
END:VCALENDAR