BEGIN:VCALENDAR
VERSION:2.0
PRODID:-//Patriot Guard Riders - ECPv5.3.2.1//NONSGML v1.0//EN
CALSCALE:GREGORIAN
METHOD:PUBLISH
X-WR-CALNAME:Patriot Guard Riders
X-ORIGINAL-URL:https://www.patriotguard.org
X-WR-CALDESC:Events for Patriot Guard Riders
BEGIN:VTIMEZONE
TZID:America/New_York
BEGIN:DAYLIGHT
TZOFFSETFROM:-0500
TZOFFSETTO:-0400
TZNAME:EDT
DTSTART:20190310T070000
END:DAYLIGHT
BEGIN:STANDARD
TZOFFSETFROM:-0400
TZOFFSETTO:-0500
TZNAME:EST
DTSTART:20191103T060000
END:STANDARD
END:VTIMEZONE
BEGIN:VEVENT
DTSTART;VALUE=DATE:20190612
DTEND;VALUE=DATE:20190613
DTSTAMP:20210405T025618
CREATED:20190610T223927Z
LAST-MODIFIED:20190610T223927Z
UID:164212-1560297600-1560383999@www.patriotguard.org
SUMMARY:Billie Boyd
DESCRIPTION:HOTH Mission\nBillie Boyd\, Veteran\nUSA – Vietnam\nWilliston\, South Carolina – 06-12-19\n\n\n\nABOUT THE MISSION: \nTHIS IS A ONE PART MISSION\, PLEASE READ THE ENTIRE MISSION EMAIL FOR DETAILS.\nThe Patriot Guard has been asked to do a ride in and short flag line for Mr Boyd’s Honorable Service on his 72nd birthday. He served in the US Army from 1965-1968. SGT Boyd was awarded the Silver Star for gallantry in action during Operation Shenandoah.\n\n\nPRIMARY STAGING DETAILS: 06-12-19 \nStaging Time: 10:15 AM\n \nLong Branch Baptist Church\n3223 SC 37\nWilliston\, South Carolina 29853\nMap\n\n\nRide Captain: \nJR Harris\nEmail jrbetty11@yahoo.com\nPhone Number 803-640-6430\n\n\nSpecial Instructions: \nBriefing: 10:30 am\nKSU or Flag Line: 10:45\nSpecial Instructions: We will leave for the home following the briefing.\nOn arrival we dismount and stand a short Flag Line for this veteran and his family.\nThe church will be open for the rest rooms.\nFlag Wagon\, RC Dee Anderson\, 706-799-4741\n\n\nFlags & Water:\nFlags will be provided\nIf you have large bike flags\, please bring them.\nWater will be provided.\n\n\n\nSubmitted By: Joe Padgett \nPosition: South Carolina Assistant State Captain \n\nNote: You do not have to own/ride a motorcycle or be a veteran to join\, and membership is Free. The only requirement is RESPECT! To subscribe to receive mission notices\, log into the National Site and click on the Members tab at the top. Select the Subscribe to PGR Missions option.\n Print This Page
URL:https://www.patriotguard.org/mission/billie-boyd/
CATEGORIES:HOTH Mission
END:VEVENT
END:VCALENDAR