BEGIN:VCALENDAR
VERSION:2.0
PRODID:-//Patriot Guard Riders - ECPv5.6.0//NONSGML v1.0//EN
CALSCALE:GREGORIAN
METHOD:PUBLISH
X-WR-CALNAME:Patriot Guard Riders
X-ORIGINAL-URL:https://www.patriotguard.org
X-WR-CALDESC:Events for Patriot Guard Riders
BEGIN:VTIMEZONE
TZID:America/New_York
BEGIN:DAYLIGHT
TZOFFSETFROM:-0500
TZOFFSETTO:-0400
TZNAME:EDT
DTSTART:20160313T070000
END:DAYLIGHT
BEGIN:STANDARD
TZOFFSETFROM:-0400
TZOFFSETTO:-0500
TZNAME:EST
DTSTART:20161106T060000
END:STANDARD
END:VTIMEZONE
BEGIN:VEVENT
DTSTART;TZID=America/New_York:20160606T090000
DTEND;TZID=America/New_York:20160606T110000
DTSTAMP:20210513T131741
CREATED:20160606T130000Z
LAST-MODIFIED:20191201T145414Z
UID:411571-1465203600-1465210800@www.patriotguard.org
SUMMARY:Bill Wayne Feemster
DESCRIPTION:Patriot’s Name:  Bill Wayne Feemster\nMission Name:  Veteran  Memorial Service\nMilitary Branch:  UNITED STATES MARINE CORPS \nDate of Mission:   Monday 6 June 2016 \nStaging Time:  1100 hrs \nBriefing Time:  1200 hrs \nIn position:  1215 hrs \nStaging Address:\nJohn Wesley United Methodist Church\,\n5830 Bermuda Dunes\nHouston\, Texas  77069 \nMission details:  Flag Line at Church \nObituary:  BILL WAYNE FEEMSTER – August 18\, 1938 – May 29\, 2016. Born in Port Arthur\,  Texas\,  died in Montgomery\, Texas.  Bill graduated from Thomas Jefferson High School in Port Arthur\, earned a B.S. degree from Lamar College\, Beaumont and a Master’s degree from Arizona State. Bill served in the United States Marine Corps 1957 – 1964 and had a career in Banking\, finance and ranching.  Survivors: Wife\, Annette\, his daughter Cammie\, two grandchildren\, and four siblings. \nRide Captain:\nJohn Goff\n281-468-5488\njgoffsr@aol.com \nRide Captain:\nBen Jones\n832-257-5775\nchukkllzz@yahoo.com \nRide Captain/Support Vehicle:\nKen Strube\n281-250-7659\nkstrube1@windstream.net \nWeather Forecast: High 89\, with chance of rain.
URL:https://www.patriotguard.org/mission/bill-wayne-feemster/
END:VEVENT
END:VCALENDAR