BEGIN:VCALENDAR
VERSION:2.0
PRODID:-//Patriot Guard Riders - ECPv5.3.2.1//NONSGML v1.0//EN
CALSCALE:GREGORIAN
METHOD:PUBLISH
X-WR-CALNAME:Patriot Guard Riders
X-ORIGINAL-URL:https://www.patriotguard.org
X-WR-CALDESC:Events for Patriot Guard Riders
BEGIN:VTIMEZONE
TZID:America/New_York
BEGIN:DAYLIGHT
TZOFFSETFROM:-0500
TZOFFSETTO:-0400
TZNAME:EDT
DTSTART:20190310T070000
END:DAYLIGHT
BEGIN:STANDARD
TZOFFSETFROM:-0400
TZOFFSETTO:-0500
TZNAME:EST
DTSTART:20191103T060000
END:STANDARD
END:VTIMEZONE
BEGIN:VEVENT
DTSTART;VALUE=DATE:20190815
DTEND;VALUE=DATE:20190816
DTSTAMP:20210402T195353
CREATED:20190813T095105Z
LAST-MODIFIED:20190813T095105Z
UID:170684-1565827200-1565913599@www.patriotguard.org
SUMMARY:Bill McMurtrie
DESCRIPTION:Honor Mission\nBill McMurtrie\, Veteran\nUSN\nBartlesville\, Oklahoma – 08-15-19\n\n\n\nABOUT THE MISSION: \nThe family of USN veteran Bill McMurtrie has requested the Patriot Guard Riders to stand a flag line at his funeral service.\n\n\nPRIMARY STAGING DETAILS: 08-15-19 \nStaging Time: 8:45 am\n \nNo Limit Powersports\n396980 W\, 2400 Rd.\nBartlesville\, Oklahoma 74006\n\n\nRide Captain: \nStan Wilson\nneokpgrrc@gmail.com\n918-214-1712\n\n\nSpecial Instructions: \nMandatory Briefing: 9:00 am\nFlag Line: 9:30 am\nWeather: Forecast high of 88 and partly cloudy\nThe American Legion Honor Guard is scheduled to conduct Military Honors.\nFuneral Director has asked PGR to be prepared to conduct Military Honors in the event American Legion is unable.\nServices will be held at Matoaka Baptist Church at 10:00 am.\nFollowing the service we will accompany the Hero\, family and friends to Ramona Cemetery for interment.\nAssisted by: Gary Sutton\, soonerman@cableone.net\, 918-336-5325\n\n\nFlags & Water:\nFlags will be provided\nIf you have large bike flags\, please bring them.\nWater WILL NOT be provided\, please bring your own.\n\n\n\nSubmitted By: William Pennington \nPosition: Oklahoma Ride Captain \n\nNote: You do not have to own/ride a motorcycle or be a veteran to join\, and membership is Free. The only requirement is RESPECT! To subscribe to receive mission notices\, log into the National Site and click on the Members tab at the top. Select the Subscribe to PGR Missions option.\n Print This Page
URL:https://www.patriotguard.org/mission/bill-mcmurtrie/
CATEGORIES:Honor Mission
END:VEVENT
END:VCALENDAR