BEGIN:VCALENDAR
VERSION:2.0
PRODID:-//Patriot Guard Riders - ECPv5.6.0//NONSGML v1.0//EN
CALSCALE:GREGORIAN
METHOD:PUBLISH
X-WR-CALNAME:Patriot Guard Riders
X-ORIGINAL-URL:https://www.patriotguard.org
X-WR-CALDESC:Events for Patriot Guard Riders
BEGIN:VTIMEZONE
TZID:America/New_York
BEGIN:DAYLIGHT
TZOFFSETFROM:-0500
TZOFFSETTO:-0400
TZNAME:EDT
DTSTART:20160313T070000
END:DAYLIGHT
BEGIN:STANDARD
TZOFFSETFROM:-0400
TZOFFSETTO:-0500
TZNAME:EST
DTSTART:20161106T060000
END:STANDARD
END:VTIMEZONE
BEGIN:VEVENT
DTSTART;TZID=America/New_York:20160706T090000
DTEND;TZID=America/New_York:20160706T110000
DTSTAMP:20210512T163018
CREATED:20160706T130000Z
LAST-MODIFIED:20191201T144747Z
UID:410992-1467795600-1467802800@www.patriotguard.org
SUMMARY:Bill Jenkins\, 79\, USA Veteran / Tampa
DESCRIPTION:[FONT=&amp]Bill Jenkins\, 79[/FONT]\n[FONT=&amp]U.S. Army / Veteran[/FONT]\n[FONT=&amp]Tampa / Clearwater\, FL.[/FONT]\n[FONT=&amp]Wednesday\, July 6\, 2016[/FONT]\n\n\n\n[FONT=&amp]The family of SGT Bill Jenkins  has graciously requested the Patriot Guard Rider’s presence as they  show their final respects and lay their loved one to rest.  SGT Jenkins  served his Country in the in the U.S. Army for eight years and received  an Honorable Discharge upon completion of his service.  No additional  military related information is available at this time.[/FONT] \n[FONT=&amp]SGT Jenkins was a forth degree Knight in the Knights of Columbus and a local business owner for 40 years.[/FONT] \n[FONT=&amp]Note[/FONT][FONT=&amp]: This is a two-part mission.[/FONT] \n[FONT=&amp]Part 1 [/FONT][FONT=&amp]is  a funeral service at St. Paul’s Catholic Church in Tampa\, followed by a  ride\, or possible escort (approximately 25 miles) to the cemetery in  Clearwater.  Ride Captain will determine if an escort can be  accomplished safely.  If not\, we will re-stage at the cemetery and await  the family’s arrival.[/FONT] \n[FONT=&amp]Part 2 [/FONT][FONT=&amp]is an interment service at the cemetery in Clearwater.[/FONT] \n[FONT=&amp]Please  bring your 3 X 5 American Flags and join us as we stand in silent Honor  and Respect for our U.S. Army Hero and his family.[/FONT] \n[FONT=&amp]Itinerary:[/FONT] \n[FONT=&amp]Part 1[/FONT]\n[FONT=&amp]St. Paul’s Catholic Church[/FONT]\n[FONT=&amp]12708 N. Dale Mabry Hwy[/FONT]\n[FONT=&amp]Tampa\, FL.\, 33618[/FONT] \n[FONT=&amp]Map:   https://goo.gl/tXVcX1[/FONT] \n[FONT=&amp]Stage:              0900 hrs[/FONT]\n[FONT=&amp]Brief:                0930 hrs            [/FONT]\n[FONT=&amp]Flag Line:          As determined by Ride Captain[/FONT]\n[FONT=&amp]Service:            1000 hrs[/FONT]\n[FONT=&amp]KSU                 1100 hrs (Estimated or as determined by Ride Captain)[/FONT] \n[FONT=&amp]Part 2[/FONT] \n[FONT=&amp]Calvary Catholic Cemetery[/FONT]\n[FONT=&amp]5233 118th Ave N.[/FONT]\n[FONT=&amp]Clearwater\, FL.\, 33760[/FONT] \n[FONT=&amp]Map:   https://goo.gl/S4WMAE[/FONT] \n[FONT=&amp]Stage:              1115 hrs (Estimated or upon arrival of funeral procession) [/FONT]\n[FONT=&amp]Brief:                As determined by Ride Captain  [/FONT]\n[FONT=&amp]Flag Line:          As determined by Ride Captain[/FONT]\n[FONT=&amp]Service:            As determined by Family[/FONT] \n\n[FONT=&amp]Ride Captain:    Kim McFarlane[/FONT]\n[FONT=&amp]RC Email:         kimbo22762@hotmail.com[/FONT]\n[FONT=&amp]RC Cell:            518-527-1564[/FONT] \n[FONT=&amp]Respectfully submitted:[/FONT]\n[FONT=&amp]David “Flyboy” Shelton[/FONT]\n[FONT=&amp]FL ASC[/FONT]
URL:https://www.patriotguard.org/mission/bill-jenkins-79-usa-veteran-tampa/
CATEGORIES:Archive
END:VEVENT
END:VCALENDAR