BEGIN:VCALENDAR
VERSION:2.0
PRODID:-//Patriot Guard Riders - ECPv5.6.0//NONSGML v1.0//EN
CALSCALE:GREGORIAN
METHOD:PUBLISH
X-WR-CALNAME:Patriot Guard Riders
X-ORIGINAL-URL:https://www.patriotguard.org
X-WR-CALDESC:Events for Patriot Guard Riders
BEGIN:VTIMEZONE
TZID:America/New_York
BEGIN:DAYLIGHT
TZOFFSETFROM:-0500
TZOFFSETTO:-0400
TZNAME:EDT
DTSTART:20100314T070000
END:DAYLIGHT
BEGIN:STANDARD
TZOFFSETFROM:-0400
TZOFFSETTO:-0500
TZNAME:EST
DTSTART:20101107T060000
END:STANDARD
END:VTIMEZONE
BEGIN:VEVENT
DTSTART;TZID=America/New_York:20100730T090000
DTEND;TZID=America/New_York:20100730T110000
DTSTAMP:20210513T214925
CREATED:20100730T130000Z
LAST-MODIFIED:20191201T105403Z
UID:359841-1280480400-1280487600@www.patriotguard.org
SUMMARY:Bill Debban\, 83\, USA Korea Veteran
DESCRIPTION:Korean War Veteran PFC Bill Debban\, 83\, Elwood NE \n \nThe family of PFC Bill Debban has requested the Patriot Guard Riders participate in his funeral service by standing an Honor Line prior to his funeral service in Elwood Nebraska on Friday\, July 30th\, 2010 \nPfc Debban enlisted in the United States Army and served his country from October 8th\, 1946 until 1948. Bill was an active member of the American Legion for over 33 years. \nSTAGE DATE:     Friday\, July 30\, 2010 \nSTAGE LOCATION:     Our Redeemer Lutheran Church\,                                                                                     704 Smith Ave\, Elwood\, NE  68837   308-785-2875 \nSTAGE TIME:                10am \nPGR MEETING:            10:15am \nHONOR LINE:               10:20am \nFUNERAL SERVICE:    11am \nFollowing the funeral service the PGR will escort our hero to his final resting place at the Elwood Cemetery. Military rites will be given by the American Legion Post #290 of Elwood. \nNOTICE: Due to the extremely short notice Flags may not be provided at the Mission. If Flags are not available the PGR will stand an Honor Line acknowledging Pfc William Debban’s selfless contribution to the freedoms we cherish today. \nPlease monitor www.patriotguard.org “Confirmed Missions” for last minute changes and updates. \nRide Captain:         Jack Govier                    jggovier@yahoo.com                          308-320-2535 \nRide Captain:        Dennis Shannon            dennis_cathy5885@msn.com               308-737-9467
URL:https://www.patriotguard.org/mission/bill-debban-83-usa-korea-veteran/
CATEGORIES:Archive
END:VEVENT
END:VCALENDAR