BEGIN:VCALENDAR
VERSION:2.0
PRODID:-//Patriot Guard Riders - ECPv5.3.2.1//NONSGML v1.0//EN
CALSCALE:GREGORIAN
METHOD:PUBLISH
X-WR-CALNAME:Patriot Guard Riders
X-ORIGINAL-URL:https://www.patriotguard.org
X-WR-CALDESC:Events for Patriot Guard Riders
BEGIN:VTIMEZONE
TZID:America/New_York
BEGIN:DAYLIGHT
TZOFFSETFROM:-0500
TZOFFSETTO:-0400
TZNAME:EDT
DTSTART:20190310T070000
END:DAYLIGHT
BEGIN:STANDARD
TZOFFSETFROM:-0400
TZOFFSETTO:-0500
TZNAME:EST
DTSTART:20191103T060000
END:STANDARD
END:VTIMEZONE
BEGIN:VEVENT
DTSTART;VALUE=DATE:20190728
DTEND;VALUE=DATE:20190730
DTSTAMP:20210402T093033
CREATED:20190727T002744Z
LAST-MODIFIED:20190727T002744Z
UID:168894-1564272000-1564444799@www.patriotguard.org
SUMMARY:Bill Allen
DESCRIPTION:Honor Mission\nBill Allen\, Veteran\nUSN – Korea\nMULTI-CITY\, MULTI-STATE – 07-28-19\n\n\n\nABOUT THE MISSION: \nThe family of Boiler Tender (Petty Officer E-4) Bill Allen\, 87\, GSP/US Navy (8/4/51-7/14/55) Korean War\, of Rossville\, GA has invited the Patriot Guard Riders to honor their loved one with a silent flagline and escort to his final place of rest. It will be our honor to do so. Mr. Allen\, 7/7/32 to 7/23/19\, served his country honorably in the Navy and Catoosa County Sheriff’s Office as well as the Georgia State Patrol. Truly a man of service. Mr. Allen stood for us and now it is our time to stand for him.\n\n\nPRIMARY STAGING DETAILS: 07-28-19 \nStaging Time: 12:30 PM\n \nHeritage Funeral Home\n3239 Battlefield Pkwy.\nFt. Oglethorpe\, Georgia 30742\n\n\nRide Captain: \nScott Hall\n706-463-1247\n\n\nSpecial Instructions: \nPrimary Staging/Visitation: 1-8 PM\n\n\nFlags & Water:\nFlags will be provided\nLarge Bike Flags will NOT be needed.\nWater WILL NOT be provided\, please bring your own.\n\nSTAGING #2 DETAILS: 07-29-19 \nStaging Time: 09:30 AM\n \nHeritage Funeral Home\n3239 Battlefield Pkwy.\nFt. Oglethorpe\, Georgia 30742\n\n\nRide Captain: \nDustin Shankles\n423-710-4224\n\n\nSpecial Instructions: \nVisitation/Escort 10-11 AM\n\n\nFlags & Water:\nFlags will be provided\nIf you have large bike flags\, please bring them.\nWater WILL NOT be provided\, please bring your own.\n\nSTAGING #3 DETAILS: 07-29-19 \nStaging Time: 12:00 PM\n \nChattanooga National Cemetery Shelter B (bottom)\n1200 Bailey Ave.\nChattanooga\, Tennessee 37404\n\n\nRide Captain: \nDustin Shankles\n423-710-4224\n\n\nSpecial Instructions: \nGraveside 12:30-1:00 PM\n\n\nFlags & Water:\nFlags will be provided\nIf you have large bike flags\, please bring them.\nWater WILL NOT be provided\, please bring your own.\n\n\n\nSubmitted By: Thonda Farmer \nPosition: Tennessee Assistant State Captain \n\nNote: You do not have to own/ride a motorcycle or be a veteran to join\, and membership is Free. The only requirement is RESPECT! To subscribe to receive mission notices\, log into the National Site and click on the Members tab at the top. Select the Subscribe to PGR Missions option.\n Print This Page
URL:https://www.patriotguard.org/mission/bill-allen/
CATEGORIES:Honor Mission
END:VEVENT
END:VCALENDAR