BEGIN:VCALENDAR
VERSION:2.0
PRODID:-//Patriot Guard Riders - ECPv5.6.0//NONSGML v1.0//EN
CALSCALE:GREGORIAN
METHOD:PUBLISH
X-WR-CALNAME:Patriot Guard Riders
X-ORIGINAL-URL:https://www.patriotguard.org
X-WR-CALDESC:Events for Patriot Guard Riders
BEGIN:VTIMEZONE
TZID:America/New_York
BEGIN:DAYLIGHT
TZOFFSETFROM:-0500
TZOFFSETTO:-0400
TZNAME:EDT
DTSTART:20160313T070000
END:DAYLIGHT
BEGIN:STANDARD
TZOFFSETFROM:-0400
TZOFFSETTO:-0500
TZNAME:EST
DTSTART:20161106T060000
END:STANDARD
END:VTIMEZONE
BEGIN:VEVENT
DTSTART;TZID=America/New_York:20160613T090000
DTEND;TZID=America/New_York:20160613T110000
DTSTAMP:20210513T190454
CREATED:20160613T130000Z
LAST-MODIFIED:20191201T145154Z
UID:411362-1465808400-1465815600@www.patriotguard.org
SUMMARY:BG James William Hoerner\, 97\, USA(RET)
DESCRIPTION:BG James William Hoerner\, 97\nUS Army Retired\nWWII Veteran\nAda\, MI\n13 June 2016\n\n\n\nThe family of Brigadier General James Hoerner have invited the Patriot Guard Riders to stand a silent Flag Line in Honor of his service to our Country. BG Hoerner joined the Army in 1942 as a cook. He was 25 years old on D-Day when he landed on Utah Beach as a Company Commander\, he retired in 1978 as Brigadier General. His accomplishments have been many in his 97 years\, both in the military and in civilian life. He became a US Bankruptcy court Trustee when he was 70 and retired at the age of 90. \nObituary: http://www.metcalfandjonkhoff.com/notices/James-Hoerner \nLocation: \nSt. Robert of Newminster Parrish\n6477 Ada Dr.\nAda\, MI.\nMap: http://mapq.st/1PlTuLq \nStaging: 8:45 AM \nBriefing: 9:00 AM \nFlag line: 9:30 AM until start of service at 11:00 AM \nRC:\nSherpa\n(616) 890-3864 \nPlease bring your 3’ X 5’ American Flag to stand for General Hoerner.
URL:https://www.patriotguard.org/mission/bg-james-william-hoerner-97-usaret/
CATEGORIES:Archive
END:VEVENT
END:VCALENDAR