BEGIN:VCALENDAR
VERSION:2.0
PRODID:-//Patriot Guard Riders - ECPv5.3.2.1//NONSGML v1.0//EN
CALSCALE:GREGORIAN
METHOD:PUBLISH
X-WR-CALNAME:Patriot Guard Riders
X-ORIGINAL-URL:https://www.patriotguard.org
X-WR-CALDESC:Events for Patriot Guard Riders
BEGIN:VTIMEZONE
TZID:America/New_York
BEGIN:DAYLIGHT
TZOFFSETFROM:-0500
TZOFFSETTO:-0400
TZNAME:EDT
DTSTART:20190310T070000
END:DAYLIGHT
BEGIN:STANDARD
TZOFFSETFROM:-0400
TZOFFSETTO:-0500
TZNAME:EST
DTSTART:20191103T060000
END:STANDARD
END:VTIMEZONE
BEGIN:VEVENT
DTSTART;VALUE=DATE:20190611
DTEND;VALUE=DATE:20190612
DTSTAMP:20210405T074952
CREATED:20190609T224648Z
LAST-MODIFIED:20190609T224648Z
UID:164179-1560211200-1560297599@www.patriotguard.org
SUMMARY:Bernie Fox
DESCRIPTION:Honor Mission\nBernie Fox\, Veteran\nUSA – Korea\nLouisville\, Kentucky – 06-11-19\n\n\n\n\nABOUT THE MISSION: \nBernie Fox served in the US Army and is a Veteran of the Korean War. Mr Fox is a member of American Legion Post 229 and a Kentucky Colonel.\n\n\nPRIMARY STAGING DETAILS: 06-11-19 \nStaging Time: 4 pm  \nFern Creek Funeral Home\n5406 Bardstown Rd\nLouisville\, Kentucky 40291\n\n\nRide Captain: \nR/C David Ballard\n502-249-0011\n\n\nSpecial Instructions: \n\n\nFlags & Water:\nFlags will be provided\nLarge Bike Flags will NOT be needed.\nWater WILL NOT be provided\, please bring your own.\n\n\n\nSubmitted By: Thomas Baker \nPosition: Kentucky Ride Captain \n\nNote: You do not have to own/ride a motorcycle or be a veteran to join\, and membership is Free. The only requirement is RESPECT! To subscribe to receive mission notices\, log into the National Site and click on the Members tab at the top. Select the Subscribe to PGR Missions option.\n Print This Page
URL:https://www.patriotguard.org/mission/bernie-fox/
CATEGORIES:Honor Mission
END:VEVENT
END:VCALENDAR