BEGIN:VCALENDAR
VERSION:2.0
PRODID:-//Patriot Guard Riders - ECPv5.6.0//NONSGML v1.0//EN
CALSCALE:GREGORIAN
METHOD:PUBLISH
X-WR-CALNAME:Patriot Guard Riders
X-ORIGINAL-URL:https://www.patriotguard.org
X-WR-CALDESC:Events for Patriot Guard Riders
BEGIN:VTIMEZONE
TZID:America/New_York
BEGIN:DAYLIGHT
TZOFFSETFROM:-0500
TZOFFSETTO:-0400
TZNAME:EDT
DTSTART:20160313T070000
END:DAYLIGHT
BEGIN:STANDARD
TZOFFSETFROM:-0400
TZOFFSETTO:-0500
TZNAME:EST
DTSTART:20161106T060000
END:STANDARD
END:VTIMEZONE
BEGIN:VEVENT
DTSTART;TZID=America/New_York:20160617T090000
DTEND;TZID=America/New_York:20160617T110000
DTSTAMP:20210513T124943
CREATED:20160617T130000Z
LAST-MODIFIED:20191201T145045Z
UID:411256-1466154000-1466161200@www.patriotguard.org
SUMMARY:Bennett McLawhorn\, USA
DESCRIPTION:Mr. Bennett McLawhorn\nVietnam Army\nSlidell\, La.\, 06-17-2016\n\n\n\nThe family of United States Army Veteran Bennett McLawhorn has requested the Patriot Guard stand in honor of their loved one during his final Mission.  Mr. McLawhorn received the Purple Heart as a result of his services in Vietnam. \nPRIMARY STAGING INFO – 06-17-2016: \nLocation:\nSoutheast Louisiana Veterans Cemetery\n34888 Grantham College Rd.\nSlidell\, La. \nStaging Time:\n9:30 A.M. \nSpecial Instructions:\nWe will meet in front of the Office at Southeast Louisiana Veterans Cemetery at 9:30 a.m. for a quick briefing. We will escort the family to the Committal Shelter at 10:00 a.m. where we will stand a Flag line. \nRCIC:\nDoug Nobles – noblesdoug@gmail.com \nAssisting RCs: \nFlags will be provided.\nLarge bike flags will be needed. \nWeather:\n94 and clear
URL:https://www.patriotguard.org/mission/bennett-mclawhorn-usa/
CATEGORIES:Archive
END:VEVENT
END:VCALENDAR