BEGIN:VCALENDAR
VERSION:2.0
PRODID:-//Patriot Guard Riders - ECPv5.3.2.1//NONSGML v1.0//EN
CALSCALE:GREGORIAN
METHOD:PUBLISH
X-WR-CALNAME:Patriot Guard Riders
X-ORIGINAL-URL:https://www.patriotguard.org
X-WR-CALDESC:Events for Patriot Guard Riders
BEGIN:VTIMEZONE
TZID:America/New_York
BEGIN:DAYLIGHT
TZOFFSETFROM:-0500
TZOFFSETTO:-0400
TZNAME:EDT
DTSTART:20190310T070000
END:DAYLIGHT
BEGIN:STANDARD
TZOFFSETFROM:-0400
TZOFFSETTO:-0500
TZNAME:EST
DTSTART:20191103T060000
END:STANDARD
END:VTIMEZONE
BEGIN:VEVENT
DTSTART;VALUE=DATE:20190717
DTEND;VALUE=DATE:20190718
DTSTAMP:20210404T060622
CREATED:20190716T134727Z
LAST-MODIFIED:20190716T134727Z
UID:167808-1563321600-1563407999@www.patriotguard.org
SUMMARY:Benjamin Phillips
DESCRIPTION:Honor Mission\nBenjamin Phillips\, Veteran\nUSA – WoT\nTucson\, Arizona – 07-17-19\n\n\n\n\nABOUT THE MISSION: \nBenjamin Phillips was born into the Phillips one of two children on 11 March 1988.In March of 2006 Benjamin chose to serve this great nation we live by enlisting into the United States Army. SPC Phillips served this nation proudly until his honorably discharge in April of 2010. After SPC Phillips discharge\, he served in the United States Navy Reserve. SPC Phillips passed away on 12 July 2019.\n\n\nPRIMARY STAGING DETAILS: 07-17-19 \nStaging Time: 1:00 pm \nLiving Hope Family Church\n9190 N. Coachline Blvd #103\nTucson\, Arizona 85743\n\n\nRide Captain: \nRide Captain: Carlos 520-975-0414\nFlag Captain: DaFlagGuy 520-241-4530\n\n\nSpecial Instructions: \nBriefing: 1:15 PM\nFlag Line: 1:30 PM\n\n\nFlags & Water:\nFlags will be provided\nIf you have large bike flags\, please bring them.\nWater will be provided.\n\nSubmitted By: Robi Campbell \nPosition: Arizona Assistant State Captain \n\nNote: You do not have to own/ride a motorcycle or be a veteran to join\, and membership is Free. The only requirement is RESPECT! To subscribe to receive mission notices\, log into the National Site and click on the Members tab at the top. Select the Subscribe to PGR Missions option.\n Print This Page
URL:https://www.patriotguard.org/mission/benjamin-phillips/
CATEGORIES:Honor Mission
END:VEVENT
END:VCALENDAR