BEGIN:VCALENDAR
VERSION:2.0
PRODID:-//Patriot Guard Riders - ECPv5.3.2.1//NONSGML v1.0//EN
CALSCALE:GREGORIAN
METHOD:PUBLISH
X-WR-CALNAME:Patriot Guard Riders
X-ORIGINAL-URL:https://www.patriotguard.org
X-WR-CALDESC:Events for Patriot Guard Riders
BEGIN:VTIMEZONE
TZID:America/New_York
BEGIN:DAYLIGHT
TZOFFSETFROM:-0500
TZOFFSETTO:-0400
TZNAME:EDT
DTSTART:20190310T070000
END:DAYLIGHT
BEGIN:STANDARD
TZOFFSETFROM:-0400
TZOFFSETTO:-0500
TZNAME:EST
DTSTART:20191103T060000
END:STANDARD
END:VTIMEZONE
BEGIN:VEVENT
DTSTART;VALUE=DATE:20190716
DTEND;VALUE=DATE:20190717
DTSTAMP:20210404T034542
CREATED:20190713T212238Z
LAST-MODIFIED:20190713T212238Z
UID:167569-1563235200-1563321599@www.patriotguard.org
SUMMARY:Benjamin Jackson Sr.
DESCRIPTION:Honor Mission\nBenjamin Jackson Sr.\, Retired\nUSAF – Vietnam\nPensacola\, Florida – 07-16-19\n\n\n\nABOUT THE MISSION: \nThe Patriot Guard has been invited by the family of TSgt Benjamin Jackson SR.\, United States Air Force\, to escort and stand in his honor at Barrancas National Cemetery. TSgt Jackson was 76 years old at the time of his passing. TSgt Jackson served in the United States Air Force for 20+ years. During his service he earned the National Defense Service Medal\, Vietnam Service Medal with Device\, The Republic of Vietnam Campaign Medal\, Air Force Good Conduct Medal with 5 Devices\, among other ribbons and awards.\n\n\nPRIMARY STAGING DETAILS: 07-16-19 \nStaging Time: 09:30 AM\n \nHardees\n8001 Pensacola Blvd\nPensacola\, Florida\n\n\nRide Captain: \nTommy Harris\n251-504-4449\nairborne@gulftel.com\n\n\nSpecial Instructions: \nCAUTION: The Naval Air Station requires long sleeve shirts\, long trousers\, long fingered gloves\, DOT approved helmets\, leather footwear covering the ankles\, and appropriate eye protection. This attire will be maintained at all times while riding aboard the base.\n10:15 – Briefing for all riders.\n10:30 – KSU to Damascus Road Baptist Church.\n10:45 – Arrive at Church.\n11:00 – Roll time to Barrancas with LEO.\n12:00 – Interment at Barrancas National Cemetery – Site A.\n\n\nFlags & Water:\nFlags will be provided\nIf you have large bike flags\, please bring them.\nWater will be provided.\n\n\n\nSubmitted By: Ray Doyle \nPosition: Florida Assistant State Captain \n\nNote: You do not have to own/ride a motorcycle or be a veteran to join\, and membership is Free. The only requirement is RESPECT! To subscribe to receive mission notices\, log into the National Site and click on the Members tab at the top. Select the Subscribe to PGR Missions option.\n Print This Page
URL:https://www.patriotguard.org/mission/benjamin-jackson-sr/
CATEGORIES:Honor Mission
END:VEVENT
END:VCALENDAR