BEGIN:VCALENDAR
VERSION:2.0
PRODID:-//Patriot Guard Riders - ECPv5.3.2.1//NONSGML v1.0//EN
CALSCALE:GREGORIAN
METHOD:PUBLISH
X-WR-CALNAME:Patriot Guard Riders
X-ORIGINAL-URL:https://www.patriotguard.org
X-WR-CALDESC:Events for Patriot Guard Riders
BEGIN:VTIMEZONE
TZID:America/New_York
BEGIN:DAYLIGHT
TZOFFSETFROM:-0500
TZOFFSETTO:-0400
TZNAME:EDT
DTSTART:20190310T070000
END:DAYLIGHT
BEGIN:STANDARD
TZOFFSETFROM:-0400
TZOFFSETTO:-0500
TZNAME:EST
DTSTART:20191103T060000
END:STANDARD
END:VTIMEZONE
BEGIN:VEVENT
DTSTART;VALUE=DATE:20190928
DTEND;VALUE=DATE:20190929
DTSTAMP:20210401T083435
CREATED:20190926T182246Z
LAST-MODIFIED:20190926T185317Z
UID:176799-1569628800-1569715199@www.patriotguard.org
SUMMARY:Benjamin B. Powell\, Jr.
DESCRIPTION:Honor Mission\nBenjamin B. Powell\, Jr. \, Veteran\nUSA\nTallahassee\, Florida – 09-28-19\n\n\n ABOUT THE MISSION:\n\nThe Patriot Guard Riders have been invited to stand in silent respect for this hero. Benjamin B. Powell\, Jr. stood for us and now we will stand for him. Benjamin B. Powell\, Jr. served honorably in the United States Army. His interment service will be held at the Abbey Funeral Home Memory Gardens at 1000 hours on Saturday\, 28 September 2019. We will stand a flag line during his interment service.\n\n\nPRIMARY STAGING DETAILS: 09-28-19 \nStaging Time: 09:20  \nAbbey Funeral Home Memory Gardens\,\n4037 North Monroe Street\nTallahassee\, Florida 32303\nMap Link\n\n\nRide Captain: \nMike Slagle\n850-273-9699\nMichaeld1942@hotmail.com\n\n\nSpecial Instructions: \nBriefing: 0930 Hrs.\nFlag Line: 0945 Hrs.\n\n\nFlags & Water:\nFlags will be provided\nLarge Bike Flags will NOT be needed.\nWater WILL NOT be provided\, please bring your own.\n\n\n\nSubmitted By: Don Reeder \nPosition: Florida Assistant State Captain \n\nNote: You do not have to own/ride a motorcycle or be a veteran to join\, and membership is Free. The only requirement is RESPECT! To subscribe to receive mission notices\, log into the National Site and click on the Members tab at the top. Select the Subscribe to PGR Missions option.\n Print This Page
URL:https://www.patriotguard.org/mission/benjamin-b-powell-jr/
CATEGORIES:Honor Mission
END:VEVENT
END:VCALENDAR