BEGIN:VCALENDAR
VERSION:2.0
PRODID:-//Patriot Guard Riders - ECPv5.3.2.1//NONSGML v1.0//EN
CALSCALE:GREGORIAN
METHOD:PUBLISH
X-WR-CALNAME:Patriot Guard Riders
X-ORIGINAL-URL:https://www.patriotguard.org
X-WR-CALDESC:Events for Patriot Guard Riders
BEGIN:VTIMEZONE
TZID:America/New_York
BEGIN:DAYLIGHT
TZOFFSETFROM:-0500
TZOFFSETTO:-0400
TZNAME:EDT
DTSTART:20190310T070000
END:DAYLIGHT
BEGIN:STANDARD
TZOFFSETFROM:-0400
TZOFFSETTO:-0500
TZNAME:EST
DTSTART:20191103T060000
END:STANDARD
END:VTIMEZONE
BEGIN:VEVENT
DTSTART;VALUE=DATE:20190809
DTEND;VALUE=DATE:20190810
DTSTAMP:20210402T105157
CREATED:20190808T223526Z
LAST-MODIFIED:20190808T223526Z
UID:170244-1565308800-1565395199@www.patriotguard.org
SUMMARY:Benjamin Aaron Phillips
DESCRIPTION:Honor Mission\nBenjamin Aaron Phillips\, Veteran\nUSA – GW/ODS\nSalisbury\, North Carolina – 08-09-19\n\n\n\nABOUT THE MISSION: \nPatriots\, The family of Benjamin Aaron Phillips (31) United States Army has asked the PGR to stand for their hero as he once stood for us. Mr. Phillips served from 2007 to 2011. During his service for our country Mr. Phillips served in Afghanistan earning the rank of Specialist and the following awards & ribbons: National Defense Service Medal\, Afghanistan Campaign Medal W/ Campaign Star\, Meritorious Unit Commendation\, Army good Conduct Medal\, Army Service Ribbon and Overseas Service Ribbon. After SPC Phillips discharge he continued his to serve with the United States Navy Reserves.\n\n\nPRIMARY STAGING DETAILS: 08-09-19 \nStaging Time: 12:25 pm\n \nSalisbury National Cemetery\n501 Statesville Blvd\nSalisbury \, North Carolina\nhttps://goo.gl/maps/gtmhQKu2FtJ2\n\n\nRide Captain: \nCW “Snapshot” Smith\nCws68@yahoo.com\n704-690-3119\n\n\nSpecial Instructions: \nPlease Note:\nPlease stage on the entrance road to the cemetery at the second left turn after entering the main gate off Statesville Boulevard. Pull over to the right as far as possible to allow traffic to pass. Please DO NOT enter the cemetery from Brenner Ave. to avoid disturbing any services that may be ongoing. After the briefing and any previous services have cleared\, then proceed to the pavilion and establish a flag line for the arrival of our Hero.We will prepare for Mr. Phillips and families arrival and stand a flag line during his interment at 1:00 pm with Full Military Honors.\n\n\nFlags & Water:\nFlags will be provided\nIf you have large bike flags\, please bring them.\nWater will be provided.\n\n\nSubmitted By: cw smith \nPosition: North Carolina Ride Captain \n\nNote: You do not have to own/ride a motorcycle or be a veteran to join\, and membership is Free. The only requirement is RESPECT! To subscribe to receive mission notices\, log into the National Site and click on the Members tab at the top. Select the Subscribe to PGR Missions option.\n Print This Page
URL:https://www.patriotguard.org/mission/benjamin-aaron-phillips/
CATEGORIES:Honor Mission
END:VEVENT
END:VCALENDAR