BEGIN:VCALENDAR
VERSION:2.0
PRODID:-//Patriot Guard Riders - ECPv5.3.2.1//NONSGML v1.0//EN
CALSCALE:GREGORIAN
METHOD:PUBLISH
X-WR-CALNAME:Patriot Guard Riders
X-ORIGINAL-URL:https://www.patriotguard.org
X-WR-CALDESC:Events for Patriot Guard Riders
BEGIN:VTIMEZONE
TZID:America/New_York
BEGIN:DAYLIGHT
TZOFFSETFROM:-0500
TZOFFSETTO:-0400
TZNAME:EDT
DTSTART:20170312T070000
END:DAYLIGHT
BEGIN:STANDARD
TZOFFSETFROM:-0400
TZOFFSETTO:-0500
TZNAME:EST
DTSTART:20171105T060000
END:STANDARD
END:VTIMEZONE
BEGIN:VEVENT
DTSTART;TZID=America/New_York:20170422T073000
DTEND;TZID=America/New_York:20170422T093000
DTSTAMP:20210404T141532
CREATED:20170422T113000Z
LAST-MODIFIED:20191201T035817Z
UID:349479-1492846200-1492853400@www.patriotguard.org
SUMMARY:Bataan Death March Survivor Escort
DESCRIPTION:Bataan Death March Survivor Escort  \nChesapeake\, Virginia – 22 Apr 2017\n\n[HR][/HR]\nABOUT THE MISSION: \nThe Patriot Guard has been invited to provide an escort to Bataan Death March survivors\, their families and other World War II Veterans on Saturday April 22nd 2017. \nPRIMARY STAGING DETAILS: 22 Apr 2017 \n \nPrimary Staging Time: 0830 A.M.\n\nAloft Hotel\n1454 Crossways Blvd\nChesapeake\, VA 23320 \n(Directions: 64 to Greenbrier Pkwy East\, At 1st light turn right on Jarman Rd.\, At next light turn right at Crossways Blvd. Hotel is about a 1/2 mile on right.)\n\n\n\n\n\nRide Captain:\n\nLarry “LL” Strauss 757-646-0501\nRich Fredley\, John Tutunjian\, Dave Bozak\, Jack Dmoch\n\n \nSpecial Instructions:\n\n\nAll mission specifics will be disclosed at the briefing. \nMission Brief: 0910 \nKSU: 0925 \nDestination arrival:  1000 \nAll those wishing to participate must arrive at the staging location prior to departure AND attend the mission brief \nWeather: Please monitor the weather as the mission date approaches and ride/drive/dress appropriately. Please stay hydrated. \nPlease ensure all flags are rigged securely to withstand highway speeds. All flag mounts will be inspected prior to escorting. Please do not feel bad if your mount is deemed unsafe and you are asked to disconnect it. Safety is our primary concern during any escort. \nFlag Protocol:\nMotorcycles: Large (3 x 5) US Flags\, Smaller Flags\, No Flags\nVehicles (Cages): Same as above. \nSPECIAL NOTE: Safety is of our utmost priority. Every effort possible is made in planning and executing the PGR MISSION Statement in a manner that minimizes the inherit dangers of riding a motorcycle\, including riding in groups of all sizes and any situation. While the PGR and its riders have a remarkable safety record in the execution of our missions\, infrequently members have been injured in unforeseen accidents. In an effort to mitigate the risk of preventable accidents\, all attendees who wish to ride in a Patriot Guard motorcycle escort or Honor Mission are asked to attend the pre-mission briefing. It will include a safety briefing and any unique ride information known to our Ride Captain(s) that may be specific to the mission. Member safety and well- being is always a principal ongoing concern. Our Ride Captains are asked to stand down from any mission that cannot be accomplished in relative safety or unreasonable risk. This includes both rides and flag lines in inclement weather and other conditions. It remains each individual PGR member’s responsibility to ride within their own comfort zone and be cognizant of their surroundings and skill limitations as well as any physical needs or limitations. If the ride and/or mission conditions present challenges beyond your skill\, comfort\, or needs\, you are expected to exercise good judgment in foregoing any planned participation\n\n \nFlags & Water:\n\nFlags Will Be Provided\n\nIf you have large bike flags\, please bring them.\n\nWater WILL NOT be provided\, please bring your own.\n\n\nSubmitted By: Wayne Anderson\nPosition: Assistant State Captain \n[HR][/HR]\nNote:\nYou do not have to own/ride a motorcycle or be a Veteran to join and membership is Free. The only requirement is RESPECT! To join\, simply go to www.PatriotGuard.org and click on Register. Membership is Free. \nTo subscribe to receive mission notices\, log into the National Site and click on the Mission Tab at the top. Select Upcoming Missions by State. Scroll to the state(s) you would like to receive notices for and click on the green check mark. Detailed instructions are also located in the FAQs on the site by clicking on the Quick Links Tab and selecting FAQs.
URL:https://www.patriotguard.org/mission/bataan-death-march-survivor-escort/
END:VEVENT
END:VCALENDAR