BEGIN:VCALENDAR
VERSION:2.0
PRODID:-//Patriot Guard Riders - ECPv5.3.2.1//NONSGML v1.0//EN
CALSCALE:GREGORIAN
METHOD:PUBLISH
X-WR-CALNAME:Patriot Guard Riders
X-ORIGINAL-URL:https://www.patriotguard.org
X-WR-CALDESC:Events for Patriot Guard Riders
BEGIN:VTIMEZONE
TZID:America/New_York
BEGIN:DAYLIGHT
TZOFFSETFROM:-0500
TZOFFSETTO:-0400
TZNAME:EDT
DTSTART:20190310T070000
END:DAYLIGHT
BEGIN:STANDARD
TZOFFSETFROM:-0400
TZOFFSETTO:-0500
TZNAME:EST
DTSTART:20191103T060000
END:STANDARD
END:VTIMEZONE
BEGIN:VEVENT
DTSTART;VALUE=DATE:20190812
DTEND;VALUE=DATE:20190813
DTSTAMP:20210402T071959
CREATED:20190811T144455Z
LAST-MODIFIED:20190811T144702Z
UID:170545-1565568000-1565654399@www.patriotguard.org
SUMMARY:Basil Roland Gentry
DESCRIPTION:Honor Mission\nBasil Roland Gentry\, Veteran\nUSN – WWII\nSachse\, Texas – 08-12-19\n\n\n\nABOUT THE MISSION: \nMr. Gentry enlisted on April 7\, 1944\, and was stationed in the Pacific Theater aboard the Supply Ship\, USS Panay. He achieved the rank of Seaman First Class\, receiving his Honorable Discharge on February 3\, 1946. Awards include the Asiatic Pacific Campaign Medal and theWWII Victory Medal.\n\n\nPRIMARY STAGING DETAILS: 08-12-19 \nStaging Time: 7:30 am  \nCharles W. Smith Funeral Home\n2925 E. 5th St.\nSachse\, Texas 75048\n\n\nRide Captain: \nBill Kushnir\nbpkush@gte.net\n(214) 995-1536\n\nDan Mathys\npgrdan1@gmail.com\n(817) 300-5542\n\n\nSpecial Instructions: \nStaging 7:30 am\nBriefing Time 7:45 am\nIn Position/KSU Time 8:00 am\nStarting Time 8:15 am\nRiders will stage at the funeral home for both the mission and safety briefings. Honor bikes will be selected and all riders staged for the procession to DFW National Cemetery. Upon arrival at the DFW Information Center\, honor bikes will turn into the designated lane while the remaining riders proceed to the designated shelter to help set the flags and await the arrival of the procession.\n\n\nFlags & Water:\nFlags will be provided\nIf you have large bike flags\, please bring them.\nWater WILL NOT be provided\, please bring your own.\n\nSTAGING #2 DETAILS: 08-12-19 \nStaging Time: 10:00 am  \nDFW National Cemetery\n2000 Mountain Creek Pkwy\nDallas\, Texas 75211\n\n\nRide Captain: \nBill Kushnir\nbpkush@gte.net\n(214) 995-1536\n\nDan Mathys\npgrdan1@gmail.com\n(817) 300-5542\n\n\nSpecial Instructions: \nStaging Time 9:15 am\nBriefing Time 9:30 am\nIn Position/KSU Time 9:45 am\nStarting Time 10:00 am\nThe Patriot Guard Riders will stage at the Visitor’s Center\, DFW National Cemetery. Following the mission briefing\, Riders will proceed to the Shelter and stand the Flag Line for the Interment Service. At the conclusion of the Service\, Flags will be furled and Riders dismissed.\n\n\nFlags & Water:\nFlags will be provided\nIf you have large bike flags\, please bring them.\nWater will be provided.\n\n\nSubmitted By: Dan Mathys \nPosition: Texas Ride Captain \n\nNote: You do not have to own/ride a motorcycle or be a veteran to join\, and membership is Free. The only requirement is RESPECT! To subscribe to receive mission notices\, log into the National Site and click on the Members tab at the top. Select the Subscribe to PGR Missions option.\n Print This Page
URL:https://www.patriotguard.org/mission/basil-roland-gentry/
CATEGORIES:Honor Mission
END:VEVENT
END:VCALENDAR