BEGIN:VCALENDAR
VERSION:2.0
PRODID:-//Patriot Guard Riders - ECPv5.6.0//NONSGML v1.0//EN
CALSCALE:GREGORIAN
METHOD:PUBLISH
X-WR-CALNAME:Patriot Guard Riders
X-ORIGINAL-URL:https://www.patriotguard.org
X-WR-CALDESC:Events for Patriot Guard Riders
BEGIN:VTIMEZONE
TZID:America/New_York
BEGIN:DAYLIGHT
TZOFFSETFROM:-0500
TZOFFSETTO:-0400
TZNAME:EDT
DTSTART:20160313T070000
END:DAYLIGHT
BEGIN:STANDARD
TZOFFSETFROM:-0400
TZOFFSETTO:-0500
TZNAME:EST
DTSTART:20161106T060000
END:STANDARD
END:VTIMEZONE
BEGIN:VEVENT
DTSTART;TZID=America/New_York:20160708T090000
DTEND;TZID=America/New_York:20160708T110000
DTSTAMP:20210512T134348
CREATED:20160708T130000Z
LAST-MODIFIED:20191201T144606Z
UID:410836-1467968400-1467975600@www.patriotguard.org
SUMMARY:Barry Steven Madden\, 59
DESCRIPTION:HONOR MISSION\nAN Barry Steven Madden\, 59\nCircleville\, Ohio\nUnited States Navy Cold War Veteran \n[ATTACH=CONFIG]4882[/ATTACH]\n\n\n\nService:\nSouth Bloomfield United Methodist Church\n5027 Second Street\nSouth Bloomfield\, Ohio 43103\n08 July 2016 @ 1700 hrs-(5 PM)\nStaging: 08 July 2016@1600hrs-(4 PM) \nThis will conclude our mission \nArrangements by:\nOliver-Cheek Funeral Home\n420 Main Street West\nAshville\, OH 43103\nDistrict #5 Ride Captain Keith Liptak is assigned this mission of Honor and Respect. Please follow his instructions. Dress per the weather conditions and remember your 3’x5’ American flags. Use your own judgment on how you get safely to and from the mission. If you need to contact Keith\, email Him at: klip588@yahoo.com. \n \n\n[ATTACH=CONFIG]4883[/ATTACH]\n\n\n \n\nRest in Peace AN Madden”
URL:https://www.patriotguard.org/mission/barry-steven-madden-59/
CATEGORIES:Archive
END:VEVENT
END:VCALENDAR