BEGIN:VCALENDAR
VERSION:2.0
PRODID:-//Patriot Guard Riders - ECPv5.6.0//NONSGML v1.0//EN
CALSCALE:GREGORIAN
METHOD:PUBLISH
X-WR-CALNAME:Patriot Guard Riders
X-ORIGINAL-URL:https://www.patriotguard.org
X-WR-CALDESC:Events for Patriot Guard Riders
BEGIN:VTIMEZONE
TZID:America/New_York
BEGIN:DAYLIGHT
TZOFFSETFROM:-0500
TZOFFSETTO:-0400
TZNAME:EDT
DTSTART:20160313T070000
END:DAYLIGHT
BEGIN:STANDARD
TZOFFSETFROM:-0400
TZOFFSETTO:-0500
TZNAME:EST
DTSTART:20161106T060000
END:STANDARD
END:VTIMEZONE
BEGIN:VEVENT
DTSTART;TZID=America/New_York:20160813T090000
DTEND;TZID=America/New_York:20160813T110000
DTSTAMP:20210511T204731
CREATED:20160813T130000Z
LAST-MODIFIED:20191201T143655Z
UID:409987-1471078800-1471086000@www.patriotguard.org
SUMMARY:Barry Dahlquist\, 57\, USA Veteran - FF
DESCRIPTION:SSG Barry “Bear” Dahlquist\, 57\nUS Army Veteran\nFirefighter & EMS\nPGR Ride Captain\nCopperas Cove\, TX\n\n\n\nThe family of Staff Sergeant Barry “Bear” Dahlquist has requested the presence and participation of the Patriot Guard Riders in the Procession and at the Funeral Service of their Loved One. \nDate: Sat\, 13 Aug 16 \nPROCESSION \nStaging Time: 1105 \nStaging Location:\nExxon/StarMart\n238 U.S. 190\nCopperas Cove\, TX 76522\n(http://tinyurl.com/yeomlb3) \nBriefing: 1115 \nKSU: 1130 \nNotes: \n1. Be at staging TOPPED OFF. \nRide Captains:\nRon “Joker” Smith\n254.415.8204\nron.smith4950@hot.rr.com \nRon “PACMan” Decker\n254.526.8265\n254.383.6281\nkrdecker@twc.com \nLarry “PapaDragon” Femrite\n254.317.5545\nblewdragon6@yahoo.com \nGary “Saber8T” Blackburn\n254.702.4309\ngblackburn@hot.rr.com \nSonny Jones\n254.749.1478\nsjones@lonestartruckgroup.com \nFUNERAL SERVICE (begins at 1300) \nStaging Time: 1205 \nStaging Location:\nFirst United Methodist Church\n3501 E. Elms Rd.\nKilleen\, TX 76541\n(http://tinyurl.com/1stUnitMethKill) \nBriefing: 1215 \nFlag line Establishment: 1225 \nNotes: \n1. Flag line will be struck shortly after Bear’s arrival as He and Susan have requested ALL bikers attend the service. \n2. Immediately following the service\, the family and mourners will take a short walk on church property to their “park” to spread Bear’s ashes. \nRide Captains:\nThomas “Sleepy” Weideman\n254.258.4901\nTWeideman@hot.rr.com \nAmanda “Snappy” Ferguson\n254.383.0303\nAmanda91B82@gmail.com \nWX: A 30 percent chance of showers and thunderstorms. Partly sunny\, with a high near 98. South southwest wind around 5 mph. \nNotes: \n1. Be at staging(s) ON TIME. \n2. Hydrate well prior\, bring water for yourself and a buddy and dress with consideration of the weather conditions. \nPlease join us in honoring this US Army Veteran\, Firefighter & EMS\, and Beloved PGR Ride Captain for his selfless service to our Great Nation\, our Veterans and our Communities.
URL:https://www.patriotguard.org/mission/barry-dahlquist-57-usa-veteran-ff/
CATEGORIES:Archive
END:VEVENT
END:VCALENDAR