BEGIN:VCALENDAR
VERSION:2.0
PRODID:-//Patriot Guard Riders - ECPv5.3.2.1//NONSGML v1.0//EN
CALSCALE:GREGORIAN
METHOD:PUBLISH
X-WR-CALNAME:Patriot Guard Riders
X-ORIGINAL-URL:https://www.patriotguard.org
X-WR-CALDESC:Events for Patriot Guard Riders
BEGIN:VTIMEZONE
TZID:America/New_York
BEGIN:DAYLIGHT
TZOFFSETFROM:-0500
TZOFFSETTO:-0400
TZNAME:EDT
DTSTART:20190310T070000
END:DAYLIGHT
BEGIN:STANDARD
TZOFFSETFROM:-0400
TZOFFSETTO:-0500
TZNAME:EST
DTSTART:20191103T060000
END:STANDARD
END:VTIMEZONE
BEGIN:VEVENT
DTSTART;VALUE=DATE:20190907
DTEND;VALUE=DATE:20190908
DTSTAMP:20210401T135635
CREATED:20190903T012358Z
LAST-MODIFIED:20190903T012358Z
UID:172564-1567814400-1567900799@www.patriotguard.org
SUMMARY:Barrett Austin
DESCRIPTION:Memorial\nBarrett Austin\, KIA\nUSA – WoT\nEasley\, South Carolina – 09-07-19\n\n\n\nABOUT THE MISSION: \nThe Patriot Guard Riders have been requested to stand for the flag dedication for Barrett Austin. Barrett was killed in action 21 Apr 2013. We were there to honor this fallen hero when he returned home and we will be here to stand again as Flags For Fallen Military installs and dedicates a flag pole at his parents home. THIS IS A TWO PART MISSION\, PLEASE READ THE ENTIRE MISSION EMAIL FOR DETAILS.\n\n\nPRIMARY STAGING DETAILS: 09-07-19 \nStaging Time: 09:30 AM\n \nWalmart\n115 Rolling Hills Circle\nEasley\, South Carolina 29640\nMap\n\n\nRide Captain: \nIndia Rackley\n864-704-2132\nindiarackley@gmail.com\n\n\nSpecial Instructions: \nAfter the brief we will proceed to the family home to install the flag base.\n\nFlags & Water:\nFlags will not be provided\nLarge Bike Flags will NOT be needed.\nWater will be provided.\n\nSTAGING #2 DETAILS: 09-08-19 \nStaging Time: 1:30 PM\n \nWalmart\n115 Rolling Hills Circle\nEasley \, South Carolina 29640\nMap\n\n\nRide Captain: \nIndia Rackley\n864-704-2132\nindiarackley@gmail.com\n\n\nSpecial Instructions: \nAfter the brief we will proceed to the family home for the dedication ceremony.\n\nFlags & Water:\nFlags will be provided\nIf you have large bike flags\, please bring them.\nWater will be provided.\n\n\n\nSubmitted By: Sam McGinnis \nPosition: South Carolina Assistant State Captain \n\nNote: You do not have to own/ride a motorcycle or be a veteran to join\, and membership is Free. The only requirement is RESPECT! To subscribe to receive mission notices\, log into the National Site and click on the Members tab at the top. Select the Subscribe to PGR Missions option.\n Print This Page
URL:https://www.patriotguard.org/mission/barrett-austin/
CATEGORIES:Memorial
END:VEVENT
END:VCALENDAR