BEGIN:VCALENDAR
VERSION:2.0
PRODID:-//Patriot Guard Riders - ECPv5.3.2.1//NONSGML v1.0//EN
CALSCALE:GREGORIAN
METHOD:PUBLISH
X-WR-CALNAME:Patriot Guard Riders
X-ORIGINAL-URL:https://www.patriotguard.org
X-WR-CALDESC:Events for Patriot Guard Riders
BEGIN:VTIMEZONE
TZID:America/New_York
BEGIN:DAYLIGHT
TZOFFSETFROM:-0500
TZOFFSETTO:-0400
TZNAME:EDT
DTSTART:20190310T070000
END:DAYLIGHT
BEGIN:STANDARD
TZOFFSETFROM:-0400
TZOFFSETTO:-0500
TZNAME:EST
DTSTART:20191103T060000
END:STANDARD
END:VTIMEZONE
BEGIN:VEVENT
DTSTART;VALUE=DATE:20190604
DTEND;VALUE=DATE:20190605
DTSTAMP:20210405T000643
CREATED:20190602T232748Z
LAST-MODIFIED:20190602T232748Z
UID:163413-1559606400-1559692799@www.patriotguard.org
SUMMARY:B.D. Bottoms
DESCRIPTION:Honor Mission\nB.D. Bottoms\, Veteran\nUSA\, USAF – WWII\nJewett\, Texas – 06-04-19\n\n\n\nABOUT THE MISSION: \nMr Bottoms graduated from Jewett High School in 1940 and went to work in Houston for Hughes Tools while he earned his Associate Degree in Business. He entered into the military in the U.S. Army Air Corps on October 5\, 1942 and served during World War II until his honorable discharge on September 20\, 1945. He received the E.A.M.E. Campaign Medal with two Bronze Stars\, the Air Medal with three Oak Leaf Clusters\, Good Conduct Medal and other awards and citations including the Distinguished Flying Cross for extraordinary achievement while serving as flight engineer/waist gunner of a B-24 Liberator Bomber. He was involved in battles in Normandy and other Air offensives in Europe. In 2017\, he was given the Knight in the French Legion of Honour Award by the French Consulate in Houston for his efforts in liberating France.\n\n\nPRIMARY STAGING DETAILS: 06-04-19 \nStaging Time: 08:15 AM\n \n1st Baptist Church of Jewett\n509 Division St.\nJewett\, Texas 75846\nMap\n\n\nRide Captain: \nCLIFF JORDAN\nPhone: 936-687-4201\nEmail Address: cwjordan85@yahoo.com\n\n\nSpecial Instructions: \nStage: 8:15 am – 8:45 am\nRiders meeting at 8:45am.\nInternment will be at Sardis Cemetery\, FM1512\, Marquez Tx 77865/\nDirections to the cemetery will be given by the Ride Captain.\nBIG FLAG BIKE REQUESTED\nPlease remain flexible as to the requirements of the mission. (SEMPER GUMBY)\n\n\nFlags & Water:\nFlags will be provided\nIf you have large bike flags\, please bring them.\nWater will be provided.\n\n\n\nSubmitted By: Michael Eubank \nPosition: Texas Deputy State Captain \n\nNote: You do not have to own/ride a motorcycle or be a veteran to join\, and membership is Free. The only requirement is RESPECT! To subscribe to receive mission notices\, log into the National Site and click on the Members tab at the top. Select the Subscribe to PGR Missions option.\n Print This Page
URL:https://www.patriotguard.org/mission/b-d-bottoms/
CATEGORIES:Honor Mission
END:VEVENT
END:VCALENDAR