BEGIN:VCALENDAR
VERSION:2.0
PRODID:-//Patriot Guard Riders - ECPv5.3.2.1//NONSGML v1.0//EN
CALSCALE:GREGORIAN
METHOD:PUBLISH
X-WR-CALNAME:Patriot Guard Riders
X-ORIGINAL-URL:https://www.patriotguard.org
X-WR-CALDESC:Events for Patriot Guard Riders
BEGIN:VTIMEZONE
TZID:America/New_York
BEGIN:DAYLIGHT
TZOFFSETFROM:-0500
TZOFFSETTO:-0400
TZNAME:EDT
DTSTART:20190310T070000
END:DAYLIGHT
BEGIN:STANDARD
TZOFFSETFROM:-0400
TZOFFSETTO:-0500
TZNAME:EST
DTSTART:20191103T060000
END:STANDARD
END:VTIMEZONE
BEGIN:VEVENT
DTSTART;VALUE=DATE:20190913
DTEND;VALUE=DATE:20190915
DTSTAMP:20210401T105427
CREATED:20190912T020536Z
LAST-MODIFIED:20190912T020536Z
UID:173611-1568332800-1568505599@www.patriotguard.org
SUMMARY:Austin Hardy
DESCRIPTION:Honor Mission\nAustin Hardy\, Active Duty\nUSA –\nMULTI-CITY\, North Carolina – 09-13-19\n\n\n\nABOUT THE MISSION: \nFellow Patriots\, we have been asked to stand in honor of SPC Austin Hardy (AD) who served with A Co. 41st Engineers at Ft. Drum\, NY. As Spc. Hardy stood for us it will be our Honor to stand for him. This will be a two part mission with a visitation on Friday\, 9-13 and at funeral and escort on Saturday\, 9-14.\n\n\nPRIMARY STAGING DETAILS: 09-13-19 \nStaging Time: 5:00 PM\n \nMcLaurin Funeral Home\n12830 US 70 Bus. Hwy W.\nClayton\, North Carolina 27520\n\n\nRide Captain: \nCharles Bullock\n919-906-3641\n\n\nSpecial Instructions: \n\n\nFlags & Water:\nFlags will be provided\nLarge Bike Flags will NOT be needed.\nWater will be provided.\n\nSTAGING #2 DETAILS: 09-14-19 \nStaging Time: 10:30 AM\n \nPentecostals of Fuquay\n2317 NC Hwy 42\nWillow Spring\, North Carolina 27592\n\n\nRide Captain: \nRandy Bright\n919-616-4503\n\n\nSpecial Instructions: \n\n\nFlags & Water:\nFlags will be provided\nIf you have large bike flags\, please bring them.\nWater will be provided.\n\n\n\nSubmitted By: Randy Bright \nPosition: North Carolina Ride Captain \n\nNote: You do not have to own/ride a motorcycle or be a veteran to join\, and membership is Free. The only requirement is RESPECT! To subscribe to receive mission notices\, log into the National Site and click on the Members tab at the top. Select the Subscribe to PGR Missions option.\n Print This Page
URL:https://www.patriotguard.org/mission/austin-hardy-2/
CATEGORIES:Honor Mission
END:VEVENT
END:VCALENDAR