BEGIN:VCALENDAR
VERSION:2.0
PRODID:-//Patriot Guard Riders - ECPv5.3.2.1//NONSGML v1.0//EN
CALSCALE:GREGORIAN
METHOD:PUBLISH
X-WR-CALNAME:Patriot Guard Riders
X-ORIGINAL-URL:https://www.patriotguard.org
X-WR-CALDESC:Events for Patriot Guard Riders
BEGIN:VTIMEZONE
TZID:America/New_York
BEGIN:DAYLIGHT
TZOFFSETFROM:-0500
TZOFFSETTO:-0400
TZNAME:EDT
DTSTART:20190310T070000
END:DAYLIGHT
BEGIN:STANDARD
TZOFFSETFROM:-0400
TZOFFSETTO:-0500
TZNAME:EST
DTSTART:20191103T060000
END:STANDARD
END:VTIMEZONE
BEGIN:VEVENT
DTSTART;VALUE=DATE:20190913
DTEND;VALUE=DATE:20190914
DTSTAMP:20210401T095617
CREATED:20190910T161212Z
LAST-MODIFIED:20190910T161212Z
UID:173388-1568332800-1568419199@www.patriotguard.org
SUMMARY:August Lyle Hawes
DESCRIPTION:Honor Mission\nAugust Lyle Hawes\nUSA\, USAR – Vietnam\nPhoenix\, Arizona – 09-13-19\n\n\n\n\nABOUT THE MISSION: \nAugust “Auggie” Lyle Hawes\, Jr. is a United States Army Veteran. Auggie was inducted on Oct. 6\, 1966. Auggie served 6 years as a Communications Center Specialist\, including 1 yr.\, 5 mo.\, and 19 days in Vietnam. Auggie’s last duty assignment was with the 1st Signal Battalion\, 101st Airborne Division. On May 10\, 1969\, Auggie was transferred to the United States Army Reserve having attained the rank of SP4. On Oct. 5\, 1972\, having completed his term of service\, Auggie was honorably discharged. Auggie was awarded the National Defense Service Medal\, Army Commendation Medal\, Vietnam Service Medal\, Vietnam Campaign Medal\, Bronze Star\, Purple Heart for his service to our country. Auggie has no living relatives. The Patriot Guard Riders will stand as his family.\n\n\nPRIMARY STAGING DETAILS: 09-13-19 \nStaging Time: 09:00 am \nNational Memorial Cemetery of Arizona\, Visitor’s Center\n23029 N. Cave Creek Rd\nPhoenix\, Arizona 85024\n\n\nRide Captain: \nDavid “Murf” Murphy\n480-406-4049 azpgrmurf@gmail.com\n\nFlag Captain: Gary O\n\n\nSpecial Instructions: \n9:15 AM: Meet coach at the cemetery entrance and escort to Visitor’s Center.\n9:30 AM: Circle of Honor with friends.\n10:00 AM: Military Honors\n\n\nFlags & Water:\nFlags will be provided\nIf you have large bike flags\, please bring them.\nWater will be provided.\n\nSubmitted By: David Murphy \nPosition: Arizona Assistant State Captain \n\nNote: You do not have to own/ride a motorcycle or be a veteran to join\, and membership is Free. The only requirement is RESPECT! To subscribe to receive mission notices\, log into the National Site and click on the Members tab at the top. Select the Subscribe to PGR Missions option.\n Print This Page
URL:https://www.patriotguard.org/mission/august-lyle-hawes/
CATEGORIES:Honor Mission
END:VEVENT
END:VCALENDAR