BEGIN:VCALENDAR
VERSION:2.0
PRODID:-//Patriot Guard Riders - ECPv5.3.2.1//NONSGML v1.0//EN
CALSCALE:GREGORIAN
METHOD:PUBLISH
X-WR-CALNAME:Patriot Guard Riders
X-ORIGINAL-URL:https://www.patriotguard.org
X-WR-CALDESC:Events for Patriot Guard Riders
BEGIN:VTIMEZONE
TZID:America/New_York
BEGIN:DAYLIGHT
TZOFFSETFROM:-0500
TZOFFSETTO:-0400
TZNAME:EDT
DTSTART:20170312T070000
END:DAYLIGHT
BEGIN:STANDARD
TZOFFSETFROM:-0400
TZOFFSETTO:-0500
TZNAME:EST
DTSTART:20171105T060000
END:STANDARD
END:VTIMEZONE
BEGIN:VEVENT
DTSTART;TZID=America/New_York:20170921T134500
DTEND;TZID=America/New_York:20170921T154500
DTSTAMP:20210405T212836
CREATED:20170921T174500Z
LAST-MODIFIED:20191201T033348Z
UID:335252-1506001500-1506008700@www.patriotguard.org
SUMMARY:Attilio Lombardi\, Veteran\, USN
DESCRIPTION:Attilio Lombardi\, Veteran\nUSN\nLindenhurst\, New York – 21 Sep 2017\n\n\n[HR][/HR]\nABOUT THE MISSION: \n\nThis veteran served on the USS Newport News from January\, 1956 to November\, 1957.\n\n\nPRIMARY STAGING DETAILS:  21 Sep 2017\nPrimary Staging Time: 1:45 P.M. \n\nLindenhurst Funeral Home\n424 South Wellwood Ave.\nLindenhurst\, New York –\n\n\nRide Captain: \n\nPete Jepson\ndoublejli@optonline.net\n\n\nSpecial Instructions: \n\nThere will be viewing from 2-4pm and again at 7-9pm.\n\n\nFlags & Water: \n\nFlags Will NOT Be Provided\, Please Bring Your Own.\nLarge Bike Flags will NOT be needed.\nWater WILL NOT be provided\, please bring your own. \n\n[HR][/HR]STAGING #2 DETAILS: 22 Sep\, 2017\nStaging #2 Time: 10:45 A.M. \n\nPinelawn Memorial Park\nWellwood Ave.\nFarmingdale\, New York –\n\n\nRide Captain: \n\nWarren Schlicker\n631-525-3561\npgr11755@aol.com\n\n\nSpecial Instructions: \n\nMeet at the administration building front parking area. Veteran should arrive by 11am.\n\n\nFlags & Water: \n\nFlags Will NOT Be Provided\, Please Bring Your Own.\nLarge Bike Flags will NOT be needed\nWater WILL NOT be provided\, please bring your own.\n\n\nSubmitted By: Ray Sestak\nPosition: Ride Captain\n[HR][/HR]Note:\nYou do not have to own/ride a motorcycle or be a Veteran to join and membership is Free. The only requirement is RESPECT! To join\, simply go to www.PatriotGuard.org and click on Register. Membership is Free. \nTo subscribe to receive mission notices\, log into the National Site and click on the Mission Tab at the top. Select the Subscribe to Missions option.
URL:https://www.patriotguard.org/mission/attilio-lombardi-veteran-usn/
END:VEVENT
END:VCALENDAR