BEGIN:VCALENDAR
VERSION:2.0
PRODID:-//Patriot Guard Riders - ECPv5.3.2.1//NONSGML v1.0//EN
CALSCALE:GREGORIAN
METHOD:PUBLISH
X-WR-CALNAME:Patriot Guard Riders
X-ORIGINAL-URL:https://www.patriotguard.org
X-WR-CALDESC:Events for Patriot Guard Riders
BEGIN:VTIMEZONE
TZID:America/New_York
BEGIN:DAYLIGHT
TZOFFSETFROM:-0500
TZOFFSETTO:-0400
TZNAME:EDT
DTSTART:20190310T070000
END:DAYLIGHT
BEGIN:STANDARD
TZOFFSETFROM:-0400
TZOFFSETTO:-0500
TZNAME:EST
DTSTART:20191103T060000
END:STANDARD
END:VTIMEZONE
BEGIN:VEVENT
DTSTART;VALUE=DATE:20190805
DTEND;VALUE=DATE:20190806
DTSTAMP:20210402T133236
CREATED:20190805T023644Z
LAST-MODIFIED:20190805T023644Z
UID:169795-1564963200-1565049599@www.patriotguard.org
SUMMARY:Arthur "Wally" Wallace LeBlanc
DESCRIPTION:Honor Mission\nArthur “Wally” Wallace LeBlanc\, Veteran\nUSA – Vietnam\nBaker\, Louisiana – 08-05-19\n\n\n\nABOUT THE MISSION: \nThe Patriot Guard Riders have been requested by the family of U.S. Army Veteran Arthur “Wally” LeBlanc. It will be our honor to do so.\nObituary\n\n\nPRIMARY STAGING DETAILS: 08-05-19 \nStaging Time: 08:15 AM\n \nBaker Funeral Home\n6401 Groom Road\nBaker\, Louisiana 70714\n\n\nRide Captain: \nRoland “Blade” Sanchez\n225-931-4725\nrolandlydia@bellsouth.net\n\n\nSpecial Instructions: \n08:15 am: Stage to set Flags and prepare to stand a silent Flag Line.\n09:00 am: Family arrives\, start silent Flag Line.\n10:00 am: Public Visitation begins.\n12:00 pm: Service begins\, secure flag line and pick up flags\n1:00 pm: Graveside Service in Hillcrest Memorial Gardens located next door to the funeral home.\nNote: This is a very short escort that does not require accessing any public roadways. The weather is calling for a high temperature of 91 degrees with a 50% chance of afternoon showers.\n\n\nFlags & Water:\nFlags will be provided\nIf you have large bike flags\, please bring them.\nWater will be provided.\n\n\n\nSubmitted By: Roland Sanchez \nPosition: Louisiana Assistant State Captain \n\nNote: You do not have to own/ride a motorcycle or be a veteran to join\, and membership is Free. The only requirement is RESPECT! To subscribe to receive mission notices\, log into the National Site and click on the Members tab at the top. Select the Subscribe to PGR Missions option.\n Print This Page
URL:https://www.patriotguard.org/mission/arthur-wally-wallace-leblanc/
CATEGORIES:Honor Mission
END:VEVENT
END:VCALENDAR