BEGIN:VCALENDAR
VERSION:2.0
PRODID:-//Patriot Guard Riders - ECPv5.6.0//NONSGML v1.0//EN
CALSCALE:GREGORIAN
METHOD:PUBLISH
X-WR-CALNAME:Patriot Guard Riders
X-ORIGINAL-URL:https://www.patriotguard.org
X-WR-CALDESC:Events for Patriot Guard Riders
BEGIN:VTIMEZONE
TZID:America/New_York
BEGIN:DAYLIGHT
TZOFFSETFROM:-0500
TZOFFSETTO:-0400
TZNAME:EDT
DTSTART:20160313T070000
END:DAYLIGHT
BEGIN:STANDARD
TZOFFSETFROM:-0400
TZOFFSETTO:-0500
TZNAME:EST
DTSTART:20161106T060000
END:STANDARD
END:VTIMEZONE
BEGIN:VEVENT
DTSTART;TZID=America/New_York:20160824T090000
DTEND;TZID=America/New_York:20160824T110000
DTSTAMP:20210511T193258
CREATED:20160824T130000Z
LAST-MODIFIED:20191201T143520Z
UID:409841-1472029200-1472036400@www.patriotguard.org
SUMMARY:Arthur R. Brown\, 79\, USNR / Seal Beach
DESCRIPTION:[FONT=&amp]Through the support of our friends at Risher Mortuary\, the family of Navy Reserve Veteran Arthur Richard “Dick” Brown has invited the Patriot Guard Riders to honor their hero for his service and sacrifice to his country. It will be our privilege to do so.\n[/FONT]\n[FONT=&amp]Dick Brown was commissioned to grade of Ensign USNR and accepted appointment in November 1958. He completed his active duty requirement effective July 1961\, and completed his reserve obligation in November 1966. He served aboard the USS Rochester\, a heavy destroyer in the Pacific. He was honorably discharged after completing his obligations and earned the rank of LtJG.\n\n[/FONT][FONT=&amp]Mr. Brown was a Registered Geologist and Certified Engineering Geologist with the State of California for almost 50 years. He worked overseas in Greece and the Philippines.\n[/FONT]\n[FONT=&amp]Dick loved the military and was passionate in his support of veterans and the Long Beach Veterans Medical Center. \n[FONT=&amp]Dick Brown is survived by wife Margaret “Genny”\, two brothers\, two daughters\, a son\, and three grandchildren.\n\n[FONT=&amp]NOTE: This mission posting is to facilitate your voluntary participation in honoring this Military Veteran. For those interested\, and all are welcome\, we will be accompanying the hero and his family from the family residence to his final resting place. Please see the time table if you would like to participate. For those who would rather go directly to the cemetery\, we will meet you there. \n[FONT=&amp]The weather is predicted to be hot so please stay hydrated and don’t forget to eat; it can make a difference with your ability to withstand the heat.\n[/FONT]\n[FONT=&amp]Time Table for Wednesday\, 24 AUG 2016:[/FONT]\n0830 – Stage at Edison Park Community Garden\, 99 College Park Dr.\, Seal Beach\, CA 90740 [FONT=&amp]https://goo.gl/nGY5rN[/FONT] \n0845 – Mission Briefing\n0900 – KSU to family residence\n0915 – Flag line for dignified transfer of Hero to awaiting vehicle\n0930 – KSU to Riverside National Cemetery\, 22495 Van Buren Blvd.\, Riverside\, CA 92518 [FONT=&amp]https://goo.gl/Vw9XG3[/FONT] (approximately 64 miles)\n1045 – Estimated arrival at RNC (Family at Staging area #1\, PGR Staging  area #8)\n1100 – KSU to Assigned Committal for Interment Service and Military Honors \n[FONT=&amp]R/C:  Ken Holst[/FONT]\n[FONT=&amp]ca2whlcruzr@gmail.com[/FONT]\n562-972-7882 \n[FONT=&amp]You do not have to be a Veteran or a motorcycle rider to attend this mission. Everyone is welcome. We encourage those who do not ride to attend in your car. \nIf this will be your first mission\, go to the staging area and you will be briefed there by the R/C (Ride Captain). \nDress for motorcycle riding or dress casually if you are driving a cage (car). Please ride/drive safely.[/FONT] \n[/FONT][/FONT][/FONT]
URL:https://www.patriotguard.org/mission/arthur-r-brown-79-usnr-seal-beach/
CATEGORIES:Archive
END:VEVENT
END:VCALENDAR