BEGIN:VCALENDAR
VERSION:2.0
PRODID:-//Patriot Guard Riders - ECPv5.3.2.1//NONSGML v1.0//EN
CALSCALE:GREGORIAN
METHOD:PUBLISH
X-WR-CALNAME:Patriot Guard Riders
X-ORIGINAL-URL:https://www.patriotguard.org
X-WR-CALDESC:Events for Patriot Guard Riders
BEGIN:VTIMEZONE
TZID:America/New_York
BEGIN:DAYLIGHT
TZOFFSETFROM:-0500
TZOFFSETTO:-0400
TZNAME:EDT
DTSTART:20170312T070000
END:DAYLIGHT
BEGIN:STANDARD
TZOFFSETFROM:-0400
TZOFFSETTO:-0500
TZNAME:EST
DTSTART:20171105T060000
END:STANDARD
END:VTIMEZONE
BEGIN:VEVENT
DTSTART;TZID=America/New_York:20170202T104500
DTEND;TZID=America/New_York:20170202T124500
DTSTAMP:20210405T184629
CREATED:20170202T154500Z
LAST-MODIFIED:20191201T035611Z
UID:348054-1486032300-1486039500@www.patriotguard.org
SUMMARY:Arthur MacWilliams\, Retired\, USAF - Vietnam
DESCRIPTION:Arthur MacWilliams\, Retired\nUSAF – Vietnam\nMULTI-CITY\, Texas – 02 Feb 2017\n\n[HR][/HR]\nABOUT THE MISSION: \nMSGT ARTHUR MAC WILLIAMS \nRepublic of Vietnam Campaign Medal\nAir Force Good Conduct Medal w/ Five Oak Leaf Clusters\nAir Force Commendation Medal\nNon-Commissioned Officer Academy Graduate Ribbon\nGood Conduct Medal Army with One Oak Leaf Cluster\nAir Force Longevity Service Ribbon w/ Five Oak Leaf Clusters\nNational Defense Service Medal w/ One Oak Leaf Cluster\nVietnam Service Medal w/ Two Oak Leaf Clusters\nAir Force Outstanding Unit Award w/ One Oak Leaf Cluster \nThe family has asked the PGR to participate in the procession from the church to DFW National Cemetery and to stand a flag line there for the interment service. \nPRIMARY STAGING DETAILS: 02 Feb 2017 \n\nPrimary Staging Time: 1145 A.M.\n\nCarter Metropolitan CME Church of Fort Worth\n4601 Wichita St\n\nFort Worth\, Texas – 76119\n\n\n\nRide Captain:\n\nMike Moore\nevermoore58@gmail.com\n(817) 228-3240\n\n\nSpecial Instructions:\n\nProcession \nPart one is a procession only\, no flag line. Riders will stage at the church and line up as directed for the procession to DFW National Cemetery\, riders will be briefed about our veteran and then participate in the safety briefing. We will have a professional escort company to escort the procession. \nDeparture time is up to the escort company.\n\n\nFlags & Water:\n\nFlags Will NOT Be Provided\, Please Bring Your Own.\n\nIf you have large bike flags\, please bring them.\n\nWater WILL NOT be provided\, please bring your own.\n\n\n[HR][/HR]\nSTAGING #2 DETAILS: 02 Feb\, 2017 \n\nStaging #2 Time: 1245 P.M.\n\nDFW National Cemetery\n2000 Mountain Creek Pkwy\n\nDallas\, Texas – 75211\n\n\n\n\nRide Captain:\n\nJammie Yaw\njammie972@yahoo.com\n(972) 467-0724\n\n\nSpecial Instructions:\n\nInterment \nRiders not participating in the procession will stage at the DFW National Cemetery to be briefed to then proceed to the designated shelter\, set flags and await the arrival of the procession. Riders will stand tall and silent during the committal service\, after which flags will be returned to the storage locker and riders will be debriefed and dismissed.\n\n\nFlags & Water:\n\nFlags Will Be Provided\n\nLarge Bike Flags will be needed\n\nWater WILL NOT be provided\, please bring your own.\n\n\nSubmitted By: Dan Mathys\nPosition: Ride Captain \n[HR][/HR]\nNote:\nYou do not have to own/ride a motorcycle or be a Veteran to join and membership is Free. The only requirement is RESPECT! To join\, simply go to Patriot Guard website and click on Register. Membership is Free. \nTo subscribe to receive mission notices\, log into the National Site and click on the Mission Tab at the top. Select Upcoming Missions by State. Scroll to the state(s) you would like to receive notices for and click on the green check mark. Detailed instructions are also located in the FAQs on the site by clicking on the Quick Links Tab and selecting FAQs.
URL:https://www.patriotguard.org/mission/arthur-macwilliams-retired-usaf-vietnam/
END:VEVENT
END:VCALENDAR