BEGIN:VCALENDAR
VERSION:2.0
PRODID:-//Patriot Guard Riders - ECPv5.3.2.1//NONSGML v1.0//EN
CALSCALE:GREGORIAN
METHOD:PUBLISH
X-WR-CALNAME:Patriot Guard Riders
X-ORIGINAL-URL:https://www.patriotguard.org
X-WR-CALDESC:Events for Patriot Guard Riders
BEGIN:VTIMEZONE
TZID:America/New_York
BEGIN:DAYLIGHT
TZOFFSETFROM:-0500
TZOFFSETTO:-0400
TZNAME:EDT
DTSTART:20190310T070000
END:DAYLIGHT
BEGIN:STANDARD
TZOFFSETFROM:-0400
TZOFFSETTO:-0500
TZNAME:EST
DTSTART:20191103T060000
END:STANDARD
END:VTIMEZONE
BEGIN:VEVENT
DTSTART;VALUE=DATE:20190727
DTEND;VALUE=DATE:20190728
DTSTAMP:20210404T030208
CREATED:20190726T043312Z
LAST-MODIFIED:20190726T043312Z
UID:168739-1564185600-1564271999@www.patriotguard.org
SUMMARY:Arthur Lee Brown Jr.
DESCRIPTION:Honor Mission\nArthur Lee Brown Jr.\, Veteran\nUSA –\nPrattville\, Alabama – 07-27-19\n\n\n\nABOUT THE MISSION: \nThe family of Arthur Lee Brown Jr. has requested the Patriot Guard stand a silent flag line at his memorial service with escort to his final resting place where we will again stand a silent flag line during the committal service. We will be honored to do so. Mr Brown served our nation honorably in the United States Army from July 1980 to May 1985. Mr. Brown stood for us. Now is the time for us to stand for him.\n\n\nPRIMARY STAGING DETAILS: 07-27-19 \nStaging Time: 11:00 AM\n \nChevron\n101 N.Memorial Drive\nPrattville\, Alabama 36067\nMap\n\n\nRide Captain: \nRickie “Dory” Waldrop\n\n\nSpecial Instructions: \nStage at 11:00am\nKSU: 11:10am to the family’s residence at 2404 Pete’s Lane\, Prattville for escort to the Bethesda Missionary Baptist Church at 764 County Rd 33 where we will stand a silent flag line.\nFollowing the service we will escort the family to his final resting place at the Old Kingston cemetery on County Rd 21 North Prattville to stand a silent flag line at the Committal service for Mr Brown.\nThe forecast for Saturday should be a high of 88 with a 20 percent chance of rain.\nPlease bring your own water. Also bring big flags if you have them.\n\n\nFlags & Water:\nFlags will be provided\nIf you have large bike flags\, please bring them.\nWater WILL NOT be provided\, please bring your own.\n\n\n\nSubmitted By: James Mason \nPosition: Alabama Ride Captain \n\nNote: You do not have to own/ride a motorcycle or be a veteran to join\, and membership is Free. The only requirement is RESPECT! To subscribe to receive mission notices\, log into the National Site and click on the Members tab at the top. Select the Subscribe to PGR Missions option.\n Print This Page
URL:https://www.patriotguard.org/mission/arthur-lee-brown-jr/
CATEGORIES:Honor Mission
END:VEVENT
END:VCALENDAR