BEGIN:VCALENDAR
VERSION:2.0
PRODID:-//Patriot Guard Riders - ECPv5.3.2.1//NONSGML v1.0//EN
CALSCALE:GREGORIAN
METHOD:PUBLISH
X-WR-CALNAME:Patriot Guard Riders
X-ORIGINAL-URL:https://www.patriotguard.org
X-WR-CALDESC:Events for Patriot Guard Riders
BEGIN:VTIMEZONE
TZID:America/New_York
BEGIN:DAYLIGHT
TZOFFSETFROM:-0500
TZOFFSETTO:-0400
TZNAME:EDT
DTSTART:20210314T070000
END:DAYLIGHT
BEGIN:STANDARD
TZOFFSETFROM:-0400
TZOFFSETTO:-0500
TZNAME:EST
DTSTART:20211107T060000
END:STANDARD
END:VTIMEZONE
BEGIN:VEVENT
DTSTART;VALUE=DATE:20210402
DTEND;VALUE=DATE:20210403
DTSTAMP:20210404T081919
CREATED:20210401T020623Z
LAST-MODIFIED:20210401T020623Z
UID:573435-1617321600-1617407999@www.patriotguard.org
SUMMARY:Arthur L. Lambkin
DESCRIPTION:Honor Mission\nArthur L. Lambkin\, Veteran\nUSA – Vietnam\nMULTI-CITY\, Oklahoma – 04-02-21\n\n\n\nABOUT THE MISSION: \nThe Family of US Army PFC Arthur L. Lambkin\, Vietnam Veteran\, requests the PGR to stand a Flag Line at his Service at 2:00 p.m. Accompaniment from Heritage Baptist Church to Kansas Cemetery\, Piedmont\, OK.\n\n\nPRIMARY STAGING DETAILS: 04-02-21 \nStaging Time: 1:00 PM\n \nHeritage Baptist Church\n1921 E. 15 th Street\nEdmond\, Oklahoma\n\n\nRide Captain: \nCarl Watts\nCrwatts1@gmail.com\n940-368-3009\n\n\nSpecial Instructions: \nStaging: 1:00 p.m.\nMandatory Briefing: 1:15 p.m. Riders must attend the briefing to accompany the family.\nFlag Line: 1:30 p.m.\nPlease hydrate before and during mission.\nWeather: Highs in the upper 60s with little chance of rain.\nWinds 20-30 mph possible.\nRide or cage to your ability.\nThank you for all you do.\n\n\nFlags & Water:\nFlags will be provided\nIf you have large bike flags\, please bring them.\nWater WILL NOT be provided\, please bring your own.\n\n\nSubmitted By: Jeff Huff \nPosition: Oklahoma Ride Captain \n\nNote: You do not have to own/ride a motorcycle or be a veteran to join\, and membership is Free. The only requirement is RESPECT! To subscribe to receive mission notices\, log into the National Site and click on the Members tab at the top. Select the Subscribe to PGR Missions option.\n Print This Page
URL:https://www.patriotguard.org/mission/arthur-l-lambkin/
CATEGORIES:Honor Mission
END:VEVENT
END:VCALENDAR