BEGIN:VCALENDAR
VERSION:2.0
PRODID:-//Patriot Guard Riders - ECPv5.3.2.1//NONSGML v1.0//EN
CALSCALE:GREGORIAN
METHOD:PUBLISH
X-WR-CALNAME:Patriot Guard Riders
X-ORIGINAL-URL:https://www.patriotguard.org
X-WR-CALDESC:Events for Patriot Guard Riders
BEGIN:VTIMEZONE
TZID:America/New_York
BEGIN:DAYLIGHT
TZOFFSETFROM:-0500
TZOFFSETTO:-0400
TZNAME:EDT
DTSTART:20190310T070000
END:DAYLIGHT
BEGIN:STANDARD
TZOFFSETFROM:-0400
TZOFFSETTO:-0500
TZNAME:EST
DTSTART:20191103T060000
END:STANDARD
END:VTIMEZONE
BEGIN:VEVENT
DTSTART;VALUE=DATE:20190601
DTEND;VALUE=DATE:20190602
DTSTAMP:20210405T002845
CREATED:20190530T133947Z
LAST-MODIFIED:20190810T063502Z
UID:162985-1559347200-1559433599@www.patriotguard.org
SUMMARY:Arthur H. Knehans
DESCRIPTION:Honor Mission\nArthur H. Knehans\, Veteran\nUSA\nBeaufort\, Missouri – 06-01-19\n\n\n\nABOUT THE MISSION: \nPlease join us in standing a flag line of honor and respect for U.S. Army veteran Arthur Knehans. Hero Knehans entered into the Army in 1962\, and will receive full Military Honors due to his selfless dedication to his country.\n\n\nPRIMARY STAGING DETAILS: 06-01-19 \nStaging Time: 10:00 am\n \nSt. John Lutheran Church\n2149 Lutheran Church Road\nBeaufort\, Missouri 63013\n\n\nRide Captain: \nJim Lacy w/ flags\n573.690.4659\n\n\nSpecial Instructions: \n10:00 am – Ride meeting w/ flag line to follow\n11:00 am – Funeral service\n12:00 pm – Military Honors\nThis will be a no escort mission as graveside services will be held at St. John Lutheran Church.\n\n\nFlags & Water:\nFlags will be provided\nLarge Bike Flags will NOT be needed.\nWater WILL NOT be provided\, please bring your own.\n\n\nSubmitted By: Jeff Hirsch \nPosition: Missouri Ride Captain \n\nNote: You do not have to own/ride a motorcycle or be a veteran to join\, and membership is Free. The only requirement is RESPECT! To subscribe to receive mission notices\, log into the National Site and click on the Members tab at the top. Select the Subscribe to PGR Missions option.\n Print This Page
URL:https://www.patriotguard.org/mission/arthur-h-knehans/
CATEGORIES:Honor Mission
END:VEVENT
END:VCALENDAR