BEGIN:VCALENDAR
VERSION:2.0
PRODID:-//Patriot Guard Riders - ECPv5.6.0//NONSGML v1.0//EN
CALSCALE:GREGORIAN
METHOD:PUBLISH
X-WR-CALNAME:Patriot Guard Riders
X-ORIGINAL-URL:https://www.patriotguard.org
X-WR-CALDESC:Events for Patriot Guard Riders
BEGIN:VTIMEZONE
TZID:America/New_York
BEGIN:DAYLIGHT
TZOFFSETFROM:-0500
TZOFFSETTO:-0400
TZNAME:EDT
DTSTART:20160313T070000
END:DAYLIGHT
BEGIN:STANDARD
TZOFFSETFROM:-0400
TZOFFSETTO:-0500
TZNAME:EST
DTSTART:20161106T060000
END:STANDARD
END:VTIMEZONE
BEGIN:VEVENT
DTSTART;TZID=America/New_York:20160615T090000
DTEND;TZID=America/New_York:20160615T110000
DTSTAMP:20210513T175651
CREATED:20160615T130000Z
LAST-MODIFIED:20191201T145136Z
UID:411336-1465981200-1465988400@www.patriotguard.org
SUMMARY:Arthur Gallahue
DESCRIPTION:The family of Arthur Gallahue has invited the Patriot Guard to stand a flag line prior to his funeral service and to provide an honor escort to Jefferson Barracks National Cemetery following his service. Mr. Gallahue served in the Navy as a Signalman.\n\nStage: Wednesday\, June 15\, 2016\, 8:15 AM\nZiegenhein South County Chapel\n4830 Lemay Ferry Rd\,\nSt. Louis\, Mo. 63129 \nService: 9:00 AM\nJefferson Barracks slot 10:30 AM \nRC/Flags\nDenny Dutchman Eads\n  314-277-2821
URL:https://www.patriotguard.org/mission/arthur-gallahue/
CATEGORIES:Archive
END:VEVENT
END:VCALENDAR