BEGIN:VCALENDAR
VERSION:2.0
PRODID:-//Patriot Guard Riders - ECPv5.3.2.1//NONSGML v1.0//EN
CALSCALE:GREGORIAN
METHOD:PUBLISH
X-WR-CALNAME:Patriot Guard Riders
X-ORIGINAL-URL:https://www.patriotguard.org
X-WR-CALDESC:Events for Patriot Guard Riders
BEGIN:VTIMEZONE
TZID:America/New_York
BEGIN:DAYLIGHT
TZOFFSETFROM:-0500
TZOFFSETTO:-0400
TZNAME:EDT
DTSTART:20190310T070000
END:DAYLIGHT
BEGIN:STANDARD
TZOFFSETFROM:-0400
TZOFFSETTO:-0500
TZNAME:EST
DTSTART:20191103T060000
END:STANDARD
END:VTIMEZONE
BEGIN:VEVENT
DTSTART;VALUE=DATE:20190708
DTEND;VALUE=DATE:20190709
DTSTAMP:20210404T070041
CREATED:20190701T181952Z
LAST-MODIFIED:20190701T181952Z
UID:166397-1562544000-1562630399@www.patriotguard.org
SUMMARY:Arthur Donald Simon
DESCRIPTION:Honor Mission\nArthur Donald Simon\, Veteran\nUSA\nPortland\, Oregon – 07-08-19\n\n\n\nABOUT THE MISSION: \nLadies and Gentlemen of the Patriot Guard Riders\, we have been invited to stand for Arthur Donald Simon\, age 73. Arthur served in the US Army from 4 February 1964 to 11 October 1965 when he was medically retired at the rank of Private 1st Class (Promotable) (E-3). He was a 72C Telephone Switchboard Operator with the 999th Signal Company (Support) on Okinawa. He earned the Marksman Badge (Rifle). Please join us as we pay our respects and honor his service to our nation.\n\n\nPRIMARY STAGING DETAILS: 07-08-19 \nStaging Time: 12:30 pm \nWillamette National Cemetery\n11800 SE Mt Scott Blvd\nPortland\, Oregon 97086\n\n\nRide Captain: \nRob Herman\nrpherman@hotmail.com\n\n\nSpecial Instructions: \nBriefing: 12:50 pm\nKSU: 1:00 pm\nFlagline Set: 1:15 pm\nService Begins: 1:30 pm\n\nMeet up top at the Rostrum by the flagpole.\nPlease enter the cemetery through Gate 1 or 3 as the normal gate is under construction.\n*** There will be an RHG by SWWA thru to the Shelter ***\n\n\nFlags & Water:\n\n\nFlags will not be provided\nIf you have large bike flags\, please bring them.\nWater WILL NOT be provided\, please bring your own.\n\n\nSubmitted By: John Hanan II \nPosition: Oregon State Captain \n\nNote: You do not have to own/ride a motorcycle or be a veteran to join\, and membership is Free. The only requirement is RESPECT! To subscribe to receive mission notices\, log into the National Site and click on the Members tab at the top. Select the Subscribe to PGR Missions option.\n Print This Page
URL:https://www.patriotguard.org/mission/arthur-donald-simon/
CATEGORIES:Honor Mission
END:VEVENT
END:VCALENDAR