BEGIN:VCALENDAR
VERSION:2.0
PRODID:-//Patriot Guard Riders - ECPv5.6.0//NONSGML v1.0//EN
CALSCALE:GREGORIAN
METHOD:PUBLISH
X-WR-CALNAME:Patriot Guard Riders
X-ORIGINAL-URL:https://www.patriotguard.org
X-WR-CALDESC:Events for Patriot Guard Riders
BEGIN:VTIMEZONE
TZID:America/New_York
BEGIN:DAYLIGHT
TZOFFSETFROM:-0500
TZOFFSETTO:-0400
TZNAME:EDT
DTSTART:20160313T070000
END:DAYLIGHT
BEGIN:STANDARD
TZOFFSETFROM:-0400
TZOFFSETTO:-0500
TZNAME:EST
DTSTART:20161106T060000
END:STANDARD
END:VTIMEZONE
BEGIN:VEVENT
DTSTART;TZID=America/New_York:20160819T090000
DTEND;TZID=America/New_York:20160819T110000
DTSTAMP:20210511T203721
CREATED:20160819T130000Z
LAST-MODIFIED:20191201T143521Z
UID:409843-1471597200-1471604400@www.patriotguard.org
SUMMARY:Arthur Behar\, USA
DESCRIPTION:The family of US Army Vietnam War Veteran E5 Arthur Behar has asked the PGR to stand a Flag line at his services to be held on 19 Aug 2016  at Sapulpa\, OK. \nServices will be held at Green Hill Funeral Home 400 E. Teel\, Sapulpa OK at 11:30 AM \nDate: Friday 19 Aug 16 \nStaging: 1015 hours\nGreen Hill Funeral Home\n400 E. Teel\nSapulpa\, OK \nBriefing: 1045 hours \nKSU: N/A \nFlag line: Following Briefing \nWeather: High – 83.    50% chance of rain \nNotes: VFW Dist #5 will perform Military Honors \nRCIC:  Tom Pope\ntom.pope1@cox.net\n918.740.1026
URL:https://www.patriotguard.org/mission/arthur-behar-usa/
CATEGORIES:Archive
END:VEVENT
END:VCALENDAR