BEGIN:VCALENDAR
VERSION:2.0
PRODID:-//Patriot Guard Riders - ECPv5.6.0//NONSGML v1.0//EN
CALSCALE:GREGORIAN
METHOD:PUBLISH
X-WR-CALNAME:Patriot Guard Riders
X-ORIGINAL-URL:https://www.patriotguard.org
X-WR-CALDESC:Events for Patriot Guard Riders
BEGIN:VTIMEZONE
TZID:America/New_York
BEGIN:DAYLIGHT
TZOFFSETFROM:-0500
TZOFFSETTO:-0400
TZNAME:EDT
DTSTART:20160313T070000
END:DAYLIGHT
BEGIN:STANDARD
TZOFFSETFROM:-0400
TZOFFSETTO:-0500
TZNAME:EST
DTSTART:20161106T060000
END:STANDARD
END:VTIMEZONE
BEGIN:VEVENT
DTSTART;TZID=America/New_York:20160630T090000
DTEND;TZID=America/New_York:20160630T110000
DTSTAMP:20210512T165118
CREATED:20160630T130000Z
LAST-MODIFIED:20191201T144724Z
UID:410955-1467277200-1467284400@www.patriotguard.org
SUMMARY:Arnold Rinkel\, 69\, USA
DESCRIPTION:PFC Arnold “John” Rinkel\, 69\nSwanton\, Ohio\nUnited States Army Vietnam Veteran \nPatriot Guard Rider\n[ATTACH=CONFIG]4863[/ATTACH] \n[ATTACH=CONFIG]4864[/ATTACH]\n\n\n\nHonor Escort Staging Location:\nWeigel Funeral Home\n204 Chestnut St.\nSwanton\, Ohio 43558\nStaging: 30 June 2016@1000hrs-(10 AM) Kickstands-up 1030hrs-(10:30 AM)  \nGraveside Service:\nSwanton Cemetery\n627 South Main Street \nSwanton\, Ohio 43558\n30 June 2016@1100hrs-(11 AM)\nStaging:  30 June 2016@1000hrs-(10 AM) If not riding in the Escort please have flag in place \nDistrict#1  Captain Frank Harris and Ride Captain Jerry Dauer are co-captains for  this mission of Honor and Respect. Please follow their instructions.  Dress per the weather conditions. If we are experiencing inclement  weather err on the side of caution. Use your own judgment on how you get  safely to and from the mission. If you need to contact Frank email him  at:  ohiopgrsarge@hotmail.com or Jerry at: j_allen_43560@yahoo.com  \n\n\n“Rest in Peace PFC Rinkel”\n[ATTACH=CONFIG]4865[/ATTACH]\n\n\nBob Woods SC\nOHSC@patriotguard.org\n513-777-1418
URL:https://www.patriotguard.org/mission/arnold-rinkel-69-usa/
CATEGORIES:Archive
END:VEVENT
END:VCALENDAR