BEGIN:VCALENDAR
VERSION:2.0
PRODID:-//Patriot Guard Riders - ECPv5.3.2.1//NONSGML v1.0//EN
CALSCALE:GREGORIAN
METHOD:PUBLISH
X-WR-CALNAME:Patriot Guard Riders
X-ORIGINAL-URL:https://www.patriotguard.org
X-WR-CALDESC:Events for Patriot Guard Riders
BEGIN:VTIMEZONE
TZID:America/New_York
BEGIN:DAYLIGHT
TZOFFSETFROM:-0500
TZOFFSETTO:-0400
TZNAME:EDT
DTSTART:20180311T070000
END:DAYLIGHT
BEGIN:STANDARD
TZOFFSETFROM:-0400
TZOFFSETTO:-0500
TZNAME:EST
DTSTART:20181104T060000
END:STANDARD
END:VTIMEZONE
BEGIN:VEVENT
DTSTART;TZID=America/New_York:20180331T080000
DTEND;TZID=America/New_York:20180331T100000
DTSTAMP:20210406T115449
CREATED:20180331T120000Z
LAST-MODIFIED:20191201T034948Z
UID:345434-1522483200-1522490400@www.patriotguard.org
SUMMARY:Arlie Ray DeLaet\, Retired\, Veteran\, USN\, USNR - WWII\, Korea\, Vietnam
DESCRIPTION:Honor Mission \nArlie Ray DeLaet\, Retired\nUSN USNR  – WWII\, Korea\, Vietnam\nFlint\, Texas – 31 Mar 2018\n\n\n[HR][/HR]\nABOUT THE MISSION: \n\nThe family of CPO Arlie Ray DeLaet\, age 89\, has requested that the PGR be present at his services. \nCPO DeLaet served in the United States Navy for 30 years on active duty and the Reserve as well. When he was asked to step up and serve\, he did so with no complaints or issues. He served during WWII\, Korea and VietNam on several duty stations…US Naval Station Kwajalein Island\, US Naval Station Guam\, Marianas Island\, Naval Construction Battalion Guam and Marianas Island. Then came stateside for storekeeper Class”B” School\, then on to Pearl Harbor\, aboard the USS Oriskany (CVS) 34. By the looks of his service record he came stateside for a US Reserve Training Center Post in McAlester\, OK. The Reserve units stationed him several places including his last duty station at the Marine Corps Reserve Center Salt Lake City\, UT\, where he retired after 30 years of honorable service. He was awarded several personal commendations from his commanders where he was stationed on the outstanding job he did. \nView Obituary: http://tinyurl.com/y9d7vzpg \n\nPRIMARY STAGING DETAILS:  31 Mar 2018\nPrimary Staging Time: 8:00 A.M. \n\nGrace Fellowship Church\n18802 FM 2493  Flint\, TX 75762\nFlint\, Texas – 75762\nhttp://tinyurl.com/y79wwste\n\n\nRide Captain: \n\nMike “Big Mike” Eubank\n903-738-1861\nfak_mike@yahoo.com\n\n\nSpecial Instructions:\n\nFlags & Water: \n\nFlags Will Be Provided\nLarge Bike Flags will NOT be needed.\nWater will be provided.\n\nSubmitted By: Ed Wilkinson\nPosition: Ride Captain\n[HR][/HR]Note:\nYou do not have to own/ride a motorcycle or be a Veteran to join and membership is Free. The only requirement is RESPECT! To join\, simply go to www.PatriotGuard.org and click on Register. Membership is Free. \nTo subscribe to receive mission notices\, log into the National Site and click on the Mission Tab at the top. Select the Subscribe to Missions option.
URL:https://www.patriotguard.org/mission/arlie-ray-delaet-retired-veteran-usn-usnr-wwii-korea-vietnam/
END:VEVENT
END:VCALENDAR