BEGIN:VCALENDAR
VERSION:2.0
PRODID:-//Patriot Guard Riders - ECPv5.3.2.1//NONSGML v1.0//EN
CALSCALE:GREGORIAN
METHOD:PUBLISH
X-WR-CALNAME:Patriot Guard Riders
X-ORIGINAL-URL:https://www.patriotguard.org
X-WR-CALDESC:Events for Patriot Guard Riders
BEGIN:VTIMEZONE
TZID:America/New_York
BEGIN:DAYLIGHT
TZOFFSETFROM:-0500
TZOFFSETTO:-0400
TZNAME:EDT
DTSTART:20170312T070000
END:DAYLIGHT
BEGIN:STANDARD
TZOFFSETFROM:-0400
TZOFFSETTO:-0500
TZNAME:EST
DTSTART:20171105T060000
END:STANDARD
END:VTIMEZONE
BEGIN:VEVENT
DTSTART;TZID=America/New_York:20170822T123000
DTEND;TZID=America/New_York:20170822T143000
DTSTAMP:20210401T235812
CREATED:20170822T163000Z
LAST-MODIFIED:20191201T032251Z
UID:326972-1503405000-1503412200@www.patriotguard.org
SUMMARY:Ardis R Barr\, USA - WWII
DESCRIPTION:Ardis R Barr\nUSA  – WWII\nMendenhall\, Mississippi – 22 Aug 2017\n\n\n[HR][/HR]\nABOUT THE MISSION: \n\nWe are sad to report the death of US Army PFC Ardis R. Barr\, his family  has requested the Patriot Guard Riders participate in his services. \nPFC Barr served in the US Army 590 Ordnance Service Company during the  occupation of Germany in 1946-47. He received the WWII Victory Medal and  the Occupation Medal.\nAfter returning home he was a river boat pilot for Port Arthur Towing.\n\n\nPRIMARY STAGING DETAILS:  22 Aug 2017\nPrimary Staging Time: 12:30 P.M. \n\nTutor Funeral Home\n3035 Hwy 13 West\nMendenhall\, Mississippi – 39114\n\n\nRide Captain: \n\nRoger Barrett\n601-826-5205\n\n\nSpecial Instructions: \n\nThe PGR will provide a  silent US flag line for visitation 1:00 pm until the beginning of the  funeral service at 2:00 pm. \nESCORT: Immediately following the funeral service the PGR will escort  PFC Barr to:\nMendenhall City Cemetery\,\nCemetery Rd\,\nMendenhall\, MS\nand provide a silent US flag line for the graveside service. \nEscort distance is less than 5 miles\, large motorcycle mounted flags are  encouraged. Please join us as we STAND FOR ONE WHO STOOD FOR US. \nTHE FAMILY HAS REQUESTED PGR TO SERVE AS PALLBEARERS. Anyone able to attend please call Roger Barrett 601-826-5205.\n \n\nFlags & Water: \n\nFlags Will Be Provided\nIf you have large bike flags\, please bring them.\nWater will be provided.\n\n\nSubmitted By: Roger Barrett\nPosition: State Captain\n[HR][/HR]Note:\nYou do not have to own/ride a motorcycle or be a Veteran to join and membership is Free. The only requirement is RESPECT! To join\, simply go to www.PatriotGuard.org and click on Register. Membership is Free. \nTo subscribe to receive mission notices\, log into the National Site and click on the Mission Tab at the top. Select the Subscribe to Missions option.
URL:https://www.patriotguard.org/mission/ardis-r-barr-usa-wwii/
END:VEVENT
END:VCALENDAR