BEGIN:VCALENDAR
VERSION:2.0
PRODID:-//Patriot Guard Riders - ECPv5.6.0//NONSGML v1.0//EN
CALSCALE:GREGORIAN
METHOD:PUBLISH
X-WR-CALNAME:Patriot Guard Riders
X-ORIGINAL-URL:https://www.patriotguard.org
X-WR-CALDESC:Events for Patriot Guard Riders
BEGIN:VTIMEZONE
TZID:America/New_York
BEGIN:DAYLIGHT
TZOFFSETFROM:-0500
TZOFFSETTO:-0400
TZNAME:EDT
DTSTART:20160313T070000
END:DAYLIGHT
BEGIN:STANDARD
TZOFFSETFROM:-0400
TZOFFSETTO:-0500
TZNAME:EST
DTSTART:20161106T060000
END:STANDARD
END:VTIMEZONE
BEGIN:VEVENT
DTSTART;TZID=America/New_York:20160715T090000
DTEND;TZID=America/New_York:20160715T110000
DTSTAMP:20210512T160813
CREATED:20160715T130000Z
LAST-MODIFIED:20191201T144316Z
UID:410574-1468573200-1468580400@www.patriotguard.org
SUMMARY:Apolonio Cesarez Rivera
DESCRIPTION:Patriot’s Name: SN Apolonio “Polo” Cesarez Rivera\nMilitary Branch: United States Navy\nClassification: Veteran\nLink To Obituary: http://hughes3.com/ \nMission Ride Captain:\nGarland “PAPA” Raney\npapa@ntxpgr.org\,\n(214) 799-5185 \nRide Captain #2:\nMark Gravit\nputt4dou@msn.com\n(720) 422-9221 \nMission Summary: The Family Has Asked The PGR To Stand A Flag Line At Funeral Service Followed By A Procession To Dallas Fort Worth National Cemetery and To Stand A Flag Line There For His Interment Service. \nPART 1: Funeral service and procession.\nMission Date: Jul 15\, 2016 – Friday \nStaging Time: 09:00 \nBriefing Time: 09:15 \nIn Position Time Or KSU: 09:30 \nService Start Time: 10:00 \nDetails Of Part 1: The Patriot Guard will stage at the Hughes Funeral Home own East Jefferson. The flags will be unfurled and put in position. A mission briefing will be held and\, at the appropriate time\, the flag line will be manned for arrival of family and friends. After the service starts\, the flags will be returned to the support vehicle\, bikes will be staged for procession\, and a safety briefing held. Those not wishing\nto be in the procession can comply with part two of this mission. A professional escort service will be provided. \nName Of Staging Point:\nHughes Funeral Home \nStaging Address For Part 1:\n400 East Jefferson Blvd.\nDallas\, Texas 75203 \nPART 2: Interment service\nMission Date: Jul 15\, 2016 – Friday \nStaging Time: 10:45 \nBriefing Time: 11:00 \nIn Position Time Or KSU: 11:15 \nService Start Time: 11:30 \nDetails Of Part 2: The Patriot Guard will stage at the information center at Dallas-Fort Worth National Cemetery. A mission briefing will be held. The flags will be unfurled and put in place at the assigned shelter. At the appropriate time\, the flag line will be manned for the arrival of SN Rivera\, family\, and friends. After the service is over\, the flags will be furled and returned to storage\, a debriefing held\, and riders dismissed. \nName Of Staging Point:\nDallas-Fort Worth National Cemetery \nStaging Address For Part 2\n2000 Mountain Creek Pkwy.\nDallas\, Texas 75211
URL:https://www.patriotguard.org/mission/apolonio-cesarez-rivera/
CATEGORIES:Archive
END:VEVENT
END:VCALENDAR