BEGIN:VCALENDAR
VERSION:2.0
PRODID:-//Patriot Guard Riders - ECPv5.3.2.1//NONSGML v1.0//EN
CALSCALE:GREGORIAN
METHOD:PUBLISH
X-WR-CALNAME:Patriot Guard Riders
X-ORIGINAL-URL:https://www.patriotguard.org
X-WR-CALDESC:Events for Patriot Guard Riders
BEGIN:VTIMEZONE
TZID:America/New_York
BEGIN:DAYLIGHT
TZOFFSETFROM:-0500
TZOFFSETTO:-0400
TZNAME:EDT
DTSTART:20190310T070000
END:DAYLIGHT
BEGIN:STANDARD
TZOFFSETFROM:-0400
TZOFFSETTO:-0500
TZNAME:EST
DTSTART:20191103T060000
END:STANDARD
END:VTIMEZONE
BEGIN:VEVENT
DTSTART;VALUE=DATE:20190606
DTEND;VALUE=DATE:20190607
DTSTAMP:20210405T075746
CREATED:20190604T103028Z
LAST-MODIFIED:20190604T103028Z
UID:163495-1559779200-1559865599@www.patriotguard.org
SUMMARY:Anton Ellis Tuomi
DESCRIPTION:Honor Mission\nAnton Ellis Tuomi\, Veteran\nUSA – Vietnam\nMULTI-CITY\, Oklahoma – 06-07-19\n\n\n\n\nABOUT THE MISSION: \nThe family of SSG Anton Ellis Tuomi\, USA Vietnam veteran\, has asked the Patriot Guard Riders to accompany their hero from Hart Funeral Home\, to Fort Gibson National Cemetery for a 1:00 pm interment.\n\n\nPRIMARY STAGING DETAILS: 06-07-19 \nStaging Time: 12:00 p.m.  \nHart Funeral Home\n1506 North Grant Avenue\nTahlequah\, Oklahoma\n\n\nRide Captain: \nDan “Big D” Koehling\, dan.koehling@cox.net\, 918-810-8820\n\n\nSpecial Instructions: \nMandatory briefing: 12:15 p.m.  You must attend the briefing to ride in the procession.\nKSU: 12:30\nWeather: Forecast high of 80° with 90% chance of thunder storms.\nBegin hydrating the day before\, and please\, always ride within your abilities.\n\n\nFlags & Water:\nFlags will be provided\nIf you have large bike flags\, please bring them.\nWater WILL NOT be provided\, please bring your own.\n\n\nSubmitted By: Don Serner \nPosition: Oklahoma Ride Captain \n\nNote: You do not have to own/ride a motorcycle or be a veteran to join\, and membership is Free. The only requirement is RESPECT! To subscribe to receive mission notices\, log into the National Site and click on the Members tab at the top. Select the Subscribe to PGR Missions option.\n Print This Page
URL:https://www.patriotguard.org/mission/anton-ellis-tuomi/
CATEGORIES:Honor Mission
END:VEVENT
END:VCALENDAR