BEGIN:VCALENDAR
VERSION:2.0
PRODID:-//Patriot Guard Riders - ECPv5.3.2.1//NONSGML v1.0//EN
CALSCALE:GREGORIAN
METHOD:PUBLISH
X-WR-CALNAME:Patriot Guard Riders
X-ORIGINAL-URL:https://www.patriotguard.org
X-WR-CALDESC:Events for Patriot Guard Riders
BEGIN:VTIMEZONE
TZID:America/New_York
BEGIN:DAYLIGHT
TZOFFSETFROM:-0500
TZOFFSETTO:-0400
TZNAME:EDT
DTSTART:20190310T070000
END:DAYLIGHT
BEGIN:STANDARD
TZOFFSETFROM:-0400
TZOFFSETTO:-0500
TZNAME:EST
DTSTART:20191103T060000
END:STANDARD
END:VTIMEZONE
BEGIN:VEVENT
DTSTART;VALUE=DATE:20190925
DTEND;VALUE=DATE:20190926
DTSTAMP:20210401T073234
CREATED:20190924T221311Z
LAST-MODIFIED:20190924T221311Z
UID:176436-1569369600-1569455999@www.patriotguard.org
SUMMARY:Anthony "Tony" Mosery
DESCRIPTION:Honor Mission\nAnthony “Tony” Mosery\, Veteran\nUSAF –\nHaughton\, Louisiana – 09-25-19\n\n\n\nABOUT THE MISSION: \nMr. Mosery was born on August 28\, 1956 in Mt. Gilead\, Ohio and passed away on September 21\, 2019. He proudly served in the United States Air Force for 30 years. He is survived by his wife of 27 years\, one son and two daughters.\n\n\nPRIMARY STAGING DETAILS: 09-25-19 \nStaging Time: 01:45 pm  \nHill Crest Funeral Home\n601 Hwy. 80 E.\nHaughton\, Louisiana\n\n\nRide Captain: \nLouis McGinty\n318-751-8356\nlouis_mcginty@windstream.net\n\n\nSpecial Instructions: \nStaging: 1:45 – 2:15 pm\nBriefing: 2:15 pm\nFlag line in place shortly after.\nAfter service\, will escort to graveside\, where we will re establish flag line.\n\n\nFlags & Water:\nFlags will be provided\nIf you have large bike flags\, please bring them.\nWater will be provided.\n\n\n\nSubmitted By: Louis McGinty \nPosition: Louisiana Ride Captain \n\nNote: You do not have to own/ride a motorcycle or be a veteran to join\, and membership is Free. The only requirement is RESPECT! To subscribe to receive mission notices\, log into the National Site and click on the Members tab at the top. Select the Subscribe to PGR Missions option.\n Print This Page
URL:https://www.patriotguard.org/mission/anthony-tony-mosery/
CATEGORIES:Honor Mission
END:VEVENT
END:VCALENDAR