BEGIN:VCALENDAR
VERSION:2.0
PRODID:-//Patriot Guard Riders - ECPv5.3.2.1//NONSGML v1.0//EN
CALSCALE:GREGORIAN
METHOD:PUBLISH
X-WR-CALNAME:Patriot Guard Riders
X-ORIGINAL-URL:https://www.patriotguard.org
X-WR-CALDESC:Events for Patriot Guard Riders
BEGIN:VTIMEZONE
TZID:America/New_York
BEGIN:DAYLIGHT
TZOFFSETFROM:-0500
TZOFFSETTO:-0400
TZNAME:EDT
DTSTART:20190310T070000
END:DAYLIGHT
BEGIN:STANDARD
TZOFFSETFROM:-0400
TZOFFSETTO:-0500
TZNAME:EST
DTSTART:20191103T060000
END:STANDARD
END:VTIMEZONE
BEGIN:VEVENT
DTSTART;VALUE=DATE:20190613
DTEND;VALUE=DATE:20190614
DTSTAMP:20210405T131814
CREATED:20190611T042149Z
LAST-MODIFIED:20190611T043229Z
UID:164360-1560384000-1560470399@www.patriotguard.org
SUMMARY:Anthony Thomas Lee McGaughy
DESCRIPTION:Honor Mission\nAnthony Thomas Lee McGaughy\nUSMC\nDallas\, Texas – 06-13-19\n\n\n \n\nABOUT THE MISSION: \nThe family of Anthony Thomas Lee McGaughy has asked the Patriot Guard Riders to honor his memory and service to our Country by standing a Flag Line at his interment service.  Mr. McGaughy enlisted in the United States Marine Corps\, serving honorably from 1994 until 1998\, where he achieved the rank of Corporal.\n\n\nPRIMARY STAGING DETAILS: 06-13-19 \nStaging Time: 1:45 pm\n \nDFW National Cemetery\n2000 Mountain Creek Pkwy\nDallas\, Texas 75211\n\n\nRide Captain: \nRick Crabbrandjcrabb@juno.com(910) 330-9861\n\n\nSpecial Instructions: \nBriefing Time: 2:00 pm\nIn Position/KSU Time: 2:15 pm\nStarting Time: 2:30 pm\nAfter the Mission Briefing\, four honor bikes will be identified and moved to the Staging Lane to accompany the procession. The remainder of the Riders will proceed to the designated Committal Shelter\, establish the Flag Line and prepare to receive Mr. McGaughy’s family and friends. When directed\, the Riders will return the flags to storage\, be debriefed and dismissed.\n\nFlags & Water:\nFlags will be provided\nIf you have large bike flags\, please bring them.\nWater will be provided.\n\n\n\nSubmitted By: Dan Mathys \nPosition: Texas Ride Captain \n\nNote: You do not have to own/ride a motorcycle or be a veteran to join\, and membership is Free. The only requirement is RESPECT! To subscribe to receive mission notices\, log into the National Site and click on the Members tab at the top. Select the Subscribe to PGR Missions option.\n Print This Page
URL:https://www.patriotguard.org/mission/anthony-thomas-lee-mcgaughy/
CATEGORIES:Honor Mission
END:VEVENT
END:VCALENDAR