BEGIN:VCALENDAR
VERSION:2.0
PRODID:-//Patriot Guard Riders - ECPv5.3.2.1//NONSGML v1.0//EN
CALSCALE:GREGORIAN
METHOD:PUBLISH
X-WR-CALNAME:Patriot Guard Riders
X-ORIGINAL-URL:https://www.patriotguard.org
X-WR-CALDESC:Events for Patriot Guard Riders
BEGIN:VTIMEZONE
TZID:America/New_York
BEGIN:DAYLIGHT
TZOFFSETFROM:-0500
TZOFFSETTO:-0400
TZNAME:EDT
DTSTART:20190310T070000
END:DAYLIGHT
BEGIN:STANDARD
TZOFFSETFROM:-0400
TZOFFSETTO:-0500
TZNAME:EST
DTSTART:20191103T060000
END:STANDARD
END:VTIMEZONE
BEGIN:VEVENT
DTSTART;VALUE=DATE:20190802
DTEND;VALUE=DATE:20190803
DTSTAMP:20210402T191407
CREATED:20190731T045248Z
LAST-MODIFIED:20190731T045248Z
UID:169223-1564704000-1564790399@www.patriotguard.org
SUMMARY:Anthony Louis Silva
DESCRIPTION:Honor Mission\nAnthony Louis Silva\, Veteran\nUS Army – Vietnam\nPensacola\, Florida – 08-02-19\n\n\nABOUT THE MISSION:\n\nThe Patriot Guard has been invited by the family of Sgt Anthony L. Silva\, United States Army\, to stand in his honor and escort him to the Barrancas National Cemetery. Sgt Silva served in the United States Army from May 1967 to Apr. 1970. During his service\, he was awarded the National Defense Service Medal\, Vietnam Service Medal\, Republic of Vietnam Campaign Medal\, Expert Rifle Badge (M-14). Honors will be at Barrancas National Cemetery\, at 1130 am. LEO escort will be provided.\n\n\nPRIMARY STAGING DETAILS: 08-02-19  \nStaging Time: 09:30 AM \nMcDonald’s\n1500 Airport Blvd\nPensacola\, Florida\n\n\nRide Captain: \nRoy W. Pippin\n251-979-7241\nsmokeynal.rp@gmail.com\n\n\nSpecial Instructions: \nNaval Air Station requires long sleeve shirts\, long trousers\, long-fingered gloves\, DOT Approved helmets\, leather footwear covering the ankles and appropriate eye protection. This attire will always be worn while riding aboard the base.\n\n10:15 AM  – Briefing for all riders\n10:30  AM– KSU to Harper Morris Memorial Chapel\n                       2276 Airport Blvd.\n                       Pensacola\, Fl.\n11:00 AM – Roll Time to Barrancas National Cemetery\, Site B\n11:30 AM – Honors at Barrancas National Cemetery\n\n\nFlags & Water:\nFlags will be provided\nIf you have large bike flags\, please bring them.\nWater will be provided.\n\n\n\nSubmitted By: Ray Doyle \nPosition: Florida Assistant State Captain \n\nNote: You do not have to own/ride a motorcycle or be a veteran to join\, and membership is Free. The only requirement is RESPECT! To subscribe to receive mission notices\, log into the National Site and click on the Members tab at the top. Select the Subscribe to PGR Missions option.
URL:https://www.patriotguard.org/mission/anthony-louis-silva/
CATEGORIES:Honor Mission
END:VEVENT
END:VCALENDAR