BEGIN:VCALENDAR
VERSION:2.0
PRODID:-//Patriot Guard Riders - ECPv5.3.2.1//NONSGML v1.0//EN
CALSCALE:GREGORIAN
METHOD:PUBLISH
X-WR-CALNAME:Patriot Guard Riders
X-ORIGINAL-URL:https://www.patriotguard.org
X-WR-CALDESC:Events for Patriot Guard Riders
BEGIN:VTIMEZONE
TZID:America/New_York
BEGIN:DAYLIGHT
TZOFFSETFROM:-0500
TZOFFSETTO:-0400
TZNAME:EDT
DTSTART:20190310T070000
END:DAYLIGHT
BEGIN:STANDARD
TZOFFSETFROM:-0400
TZOFFSETTO:-0500
TZNAME:EST
DTSTART:20191103T060000
END:STANDARD
END:VTIMEZONE
BEGIN:VEVENT
DTSTART;VALUE=DATE:20190813
DTEND;VALUE=DATE:20190814
DTSTAMP:20210402T095334
CREATED:20190810T163815Z
LAST-MODIFIED:20190810T163815Z
UID:170478-1565654400-1565740799@www.patriotguard.org
SUMMARY:Anthony C Little
DESCRIPTION:Honor Mission\nAnthony C Little\nUSN \, USNR –\nCanton\, Georgia – 08-13-19\n\n\n\n\nABOUT THE MISSION: \nThe family of Anthony C Little have requested us to stand a silent flag line to honor his life and service to our country. US Navy SK3 (E-4) (Shopkeeper) served 5 years from 1991 to 1996. His family shared he loved life was a kind and gentle soul and loved his church and friends.\nSK3 Little stood watch for us now please come stand at Georgia National Cemetery to honor him\n\n\nPRIMARY STAGING DETAILS: 08-13-19 \nStaging Time: 10:10  \nGeorgia National Cemetery\n1080 Scott Hudgens Dr\nCanton\, Georgia 30114\n\n\nRide Captain: \nTom “Knobby ” Walsh\npatriotguardrider.tom@gmail.com\n770-605-6903\n\n\nSpecial Instructions: \nStage at top of hill by the flag pole of the right side of the road \, bikes on the sidewalk cages just past flag pole . Stay on the far right as not to impede traffic. GNC is Federal Property and no weapons of any sort are permitted. Speed enforced at 15 mph.\n\nFlags & Water:\nFlags will be provided\nLarge Bike Flags will NOT be needed.\nWater will be provided.\n\n\n\nSubmitted By: Tom Walsh \nPosition: Georgia Ride Captain \n\nNote: You do not have to own/ride a motorcycle or be a veteran to join\, and membership is Free. The only requirement is RESPECT! To subscribe to receive mission notices\, log into the National Site and click on the Members tab at the top. Select the Subscribe to PGR Missions option.\n Print This Page
URL:https://www.patriotguard.org/mission/anthony-c-little/
CATEGORIES:Honor Mission
END:VEVENT
END:VCALENDAR