BEGIN:VCALENDAR
VERSION:2.0
PRODID:-//Patriot Guard Riders - ECPv5.3.2.1//NONSGML v1.0//EN
CALSCALE:GREGORIAN
METHOD:PUBLISH
X-WR-CALNAME:Patriot Guard Riders
X-ORIGINAL-URL:https://www.patriotguard.org
X-WR-CALDESC:Events for Patriot Guard Riders
BEGIN:VTIMEZONE
TZID:America/New_York
BEGIN:DAYLIGHT
TZOFFSETFROM:-0500
TZOFFSETTO:-0400
TZNAME:EDT
DTSTART:20190310T070000
END:DAYLIGHT
BEGIN:STANDARD
TZOFFSETFROM:-0400
TZOFFSETTO:-0500
TZNAME:EST
DTSTART:20191103T060000
END:STANDARD
END:VTIMEZONE
BEGIN:VEVENT
DTSTART;VALUE=DATE:20190527
DTEND;VALUE=DATE:20190528
DTSTAMP:20210405T053355
CREATED:20190520T004241Z
LAST-MODIFIED:20190520T004458Z
UID:161743-1558915200-1559001599@www.patriotguard.org
SUMMARY:Annual Memorial Day Ceremony
DESCRIPTION:HOTH Mission\nAnnual Memorial Day Ceremony\nCulpeper National Cemetery\, Virginia – 05-27-19\n\n\n\nABOUT THE MISSION: \nThe Director of Culpeper National Cemetery\, Mr Mathew Priest\, invites the Patriot Guard to come to our annual ceremony at the cemetery.  Ceremony to be held on the historic side of the cemetery and start at 11:00 am.  If you all have the volunteers to set up a flag line\, that would be amazing.  We will coordinate where everyone will stand onsite that day.  Thank you all for your constant support and I look forward to seeing you all there!\nWhat: A Memorial Day Program to honor those who paid the ultimate sacrifice in service to our nation.\nWho: Keynote Speaker & Participants: Dr. Sherry Crissman\, EdD USMC/USN Veteran.\nWhen: May 27\, 2019 at 11:00 am.\nWhere: Culpeper National Cemetery Next to the administration building.\nContact: Matthew Priest\, Cemetery Director\n\n\nPRIMARY STAGING DETAILS: 05-27-19 \nStaging: 10:30 am\n \nCulpeper National Cemetery\n305 U.S. Avenue\nCulpeper\, Virginia 22701\n\n\nRide Captain: \nRoland ‘Flags’ Lataille\nhd.trriker@yahoo.com\n703-398-7839\n\n\n\n\nFlags & Water:\nFlags will be provided\nLarge Bike Flags will NOT be needed.\nWater WILL NOT be provided\, please bring your own.\n\nSubmitted By: Roland Lataille \nPosition: Virginia Assistant State Captain \n\nNote: You do not have to own/ride a motorcycle or be a veteran to join\, and membership is Free. The only requirement is RESPECT! To subscribe to receive mission notices\, log into the National Site and click on the Members tab at the top. Select the Subscribe to PGR Missions option.\n Print This Page
URL:https://www.patriotguard.org/mission/annual-memorial-day-ceremony-4/
CATEGORIES:HOTH Mission
END:VEVENT
END:VCALENDAR