BEGIN:VCALENDAR
VERSION:2.0
PRODID:-//Patriot Guard Riders - ECPv5.3.2.1//NONSGML v1.0//EN
CALSCALE:GREGORIAN
METHOD:PUBLISH
X-WR-CALNAME:Patriot Guard Riders
X-ORIGINAL-URL:https://www.patriotguard.org
X-WR-CALDESC:Events for Patriot Guard Riders
BEGIN:VTIMEZONE
TZID:America/New_York
BEGIN:DAYLIGHT
TZOFFSETFROM:-0500
TZOFFSETTO:-0400
TZNAME:EDT
DTSTART:20190310T070000
END:DAYLIGHT
BEGIN:STANDARD
TZOFFSETFROM:-0400
TZOFFSETTO:-0500
TZNAME:EST
DTSTART:20191103T060000
END:STANDARD
END:VTIMEZONE
BEGIN:VEVENT
DTSTART;VALUE=DATE:20190601
DTEND;VALUE=DATE:20190602
DTSTAMP:20210405T073423
CREATED:20190530T132436Z
LAST-MODIFIED:20190530T132619Z
UID:162904-1559347200-1559433599@www.patriotguard.org
SUMMARY:Annual Charity Car\, Truck and Motorcycle Show
DESCRIPTION:HOTH Mission\nAnnual Charity Car\, Truck\, and Motorcycle Show\nHuntsville\, Alabama – 06-01-19\n\n\n\nABOUT THE MISSION: \nVets with Vettes and the Corvette Owners of Huntsville have asked the Patriot Guard again this year to place flags at the event. All proceeds to benefit Semper Fi Community Force-Survivor Outreach Services.\n\n\nPRIMARY STAGING DETAILS: 06-01-19 \nStaging Time: 8:00 pm  \nCabela’s Parking Lot\n7090 Cabela Dr.\nHuntsville\, Alabama 35806\n\n\nRide Captain: \nRCIC: Darrell Elmer\nnomadsontheroad@gmail.com\n920-574-8606\n\n\nSpecial Instructions: \nPlace flags Enjoy the show\n\n\nFlags & Water:\nFlags will be provided\nLarge Bike Flags will NOT be needed.\nWater will be provided.\n\nSubmitted By: John Cooper \nPosition: Alabama Ride Captain \n\nNote: You do not have to own/ride a motorcycle or be a veteran to join\, and membership is Free. The only requirement is RESPECT! To subscribe to receive mission notices\, log into the National Site and click on the Members tab at the top. Select the Subscribe to PGR Missions option.\n Print This Page
URL:https://www.patriotguard.org/mission/annual-charity-car-truck-and-motorcycle-show/
CATEGORIES:HOTH Mission
END:VEVENT
END:VCALENDAR